BEGIN:VCALENDAR
VERSION:2.0
PRODID:http://www.infomax-online.de/imxeventmanager/
METHOD:PUBLISH
BEGIN:VTIMEZONE
TZID:Europe/Berlin
TZURL:http://tzurl.org/zoneinfo-outlook/Europe/Berlin
X-LIC-LOCATION:Europe/Berlin
END:VTIMEZONE
BEGIN:VEVENT
UID:69ea760482834
LOCATION:Reeperbahn 25, 20359 Hamburg
SUMMARY;ENCODING=QUOTED-PRINTABLE:St. Pauli Comedy Club
DESCRIPTION;ENCODING=QUOTED-PRINTABLE:St. Pauli Comedy Club: Lachen garantiert!=0D=0AEuer Lieblings- Comedy Club zieht um! Wir bauen grade unseren eigenen=0D=0AClub. Bis dahin, hoffentlich Frühjahr 2026, sind wir zu den gewohnten=0D=0AZeiten im Gebäude vom großen Bruder, Hamburgs ältester und geilsten=0D=0AComedybude, dem Reeperbahn Comedy Club zu finden. =0D=0A=0D=0AJeden Donnerstag und Freitag von 20:00 - 22:00 Uhr.=0D=0AJeden Samstag von 17:00 - 19:00 Uhr & von 20:00 - 22:00 Uhr.=0D=0AEinlass immer 60 Minuten vor Showbeginn.=0D=0AReeperbahn 25=0D=0A20359 Hamburg=0D=0A
URL;VALUE=URI:https://hamburgwhl.infomaxnet.de/whl-kalender/e-st-pauli-comedy-club-4?eventDateId=30195835&widgetToken=ZHNkYFBmerA.&
CLASS:PUBLIC
DTSTART:20260430T200000
DTSTAMP:20260423T214156
END:VEVENT
END:VCALENDAR