BEGIN:VCALENDAR
VERSION:2.0
PRODID:http://www.infomax-online.de/imxeventmanager/
METHOD:PUBLISH
BEGIN:VTIMEZONE
TZID:Europe/Berlin
TZURL:http://tzurl.org/zoneinfo-outlook/Europe/Berlin
X-LIC-LOCATION:Europe/Berlin
END:VTIMEZONE
BEGIN:VEVENT
UID:69ea7a7b1178a
LOCATION:Beim Grünen Jäger 6a, 20359 Hamburg
SUMMARY;ENCODING=QUOTED-PRINTABLE:MoinHH - Stand Up Open Mic
DESCRIPTION;ENCODING=QUOTED-PRINTABLE:Eine Veranstaltung der Reihe MoinHH - Open Mic / Moin Comedy Club!=0D=0A=0D=0AMoin Comedy Club präsentiert "MoinHH - Open Mic"=0D=0A=0D=0AMoinHH ist unser Open Mic, bei dem du jede Woche Samstag neue Talente=0D=0Aentdecken und locker in dein Wochenende starten kannst - Ideal auch,=0D=0Aum uns kennenzulernen.=0D=0A=0D=0AWir zeigen dir jede Woche bis zu 8 Comedians, vom Profi bis zum=0D=0Aabsoluten Anfänger, die mit dir an ihrem Material arbeiten.=0D=0AHier hörst du Witze zum ersten und vielleicht auch zum letzten Mal ;)=0D=0AAber genau das macht den Reiz aus!=0D=0A=0D=0AJeder Gast wird von uns persönlich begrüßt und kann so die=0D=0Aeinzigartige Atmosphäre unseres Clubs genießen und sich bei guten=0D=0ADrinks wie zuhause fühlen.=0D=0AWir sind seit 2018 der einzig wahre Comedy-Club Hamburgs.=0D=0ABei uns standen Stars wie Felix Lobrecht, Ingmar Stadelmann und Filiz=0D=0ATasdan auf der Bühne, während andere wie die 4Feinde hier ihre=0D=0Aersten Karriere-Schritte gegangen sind. Vor Ort erwarten dich neben=0D=0Akühlen Getränken zu fairen Preisen auch ein paar kleine Snacks.=0D=0AAb 15€ kannst du an der Bar auch mit Karte bezahlen. Ein Geldautomat=0D=0Aist außerdem ganz in der Nähe.=0D=0ANach Beginn der Show können keine Sitzplätze mehr garantiert werden.=0D=0A=0D=0AWir freuen uns auf deinen Besuch!=0D=0A=0D=0AAdresse:=0D=0AMoin Comedy Club=0D=0AUniverso Tango =0D=0ABeim Grünen Jäger 6a=0D=0A20359 Hamburg=0D=0A
URL;VALUE=URI:https://hamburgwhl.infomaxnet.de/whl-kalender/e-moinhh-stand-up-open-mic?eventDateId=30130328&widgetToken=ZHNkYFBmerA.&
CLASS:PUBLIC
DTSTART:20260425T170000
DTSTAMP:20260423T220059
END:VEVENT
END:VCALENDAR