BEGIN:VCALENDAR
VERSION:2.0
PRODID:http://www.infomax-online.de/imxeventmanager/
METHOD:PUBLISH
BEGIN:VTIMEZONE
TZID:Europe/Berlin
TZURL:http://tzurl.org/zoneinfo-outlook/Europe/Berlin
X-LIC-LOCATION:Europe/Berlin
END:VTIMEZONE
BEGIN:VEVENT
UID:69ea7acc64694
LOCATION:Beim Grünen Jäger 6a, 20359 Hamburg
SUMMARY;ENCODING=QUOTED-PRINTABLE:Moin Comedy Club - Die Live-Show
DESCRIPTION;ENCODING=QUOTED-PRINTABLE:Willkommen im Moin Comedy Club! =0D=0ADich erwarten die Besten Comedians aus Hamburg und des Landes für 120=0D=0AMinuten Vollgas im ältesten Comedy-Club der Stadt! =0D=0A=0D=0AMoin Comedy Club – Die Live-Show im Keller =0D=0AStand-up hautnah im Herzen von St. Pauli =0D=0ASeit 2018 steht der Moin Comedy Club für ehrliche Stand-up-Comedy,=0D=0Awie man sie sonst nur aus New York oder London kennt – roh, direkt=0D=0Aund persönlich. =0D=0A=0D=0AIn unserem legendären Keller-Club im Universo Tango erlebst du jeden=0D=0AAbend 4–6 Comedians live auf der Bühne: die Stars von heute und die=0D=0ALegenden von morgen. Egal ob moderner Stand-up, Kabarett oder=0D=0AMusik-Comedy – wir stellen für jede Show ein individuelles Line-up=0D=0Azusammen. Keine Show ist wie die andere. =0D=0AUrig, ehrlich, nah dran =0D=0A=0D=0ADu betrittst den Raum und bist sofort mittendrin: Backsteinwände,=0D=0Awarme Lichter, gute Drinks und das Gefühl, etwas ganz Besonderes zu=0D=0Aerleben. Hier bist du nicht nur Zuschauer:in – du bist unser Gast.=0D=0AWir begrüßen dich persönlich, das Bar-Team versorgt dich mit=0D=0Akleinen Snacks und Drinks zu fairen Preisen, und dann beginnt die=0D=0AShow… direkt vor deiner Nase. =0D=0A=0D=0AHier bist du der Star =0D=0AWas bei uns auf der Bühne passiert, ist echt. Und was im Publikum=0D=0Apassiert, auch. =0D=0ABei uns geht’s nicht um Likes oder Filter – sondern um echte=0D=0AMenschen, echtes Lachen und zwei Stunden, die sich wie ein Kurzurlaub=0D=0Aanfühlen. =0D=0ANach Beginn der Show kann kein Sitzplatz mehr garantiert werden.=0D=0A
URL;VALUE=URI:https://hamburgwhl.infomaxnet.de/whl-kalender/e-moin-comedy-club-die-live-show-2?eventDateId=30130151&widgetToken=ZHNkYFBmerA.&
CLASS:PUBLIC
DTSTART:20260424T200000
DTSTAMP:20260423T220220
END:VEVENT
END:VCALENDAR