BEGIN:VCALENDAR
VERSION:2.0
PRODID:http://www.infomax-online.de/imxeventmanager/
METHOD:PUBLISH
BEGIN:VTIMEZONE
TZID:Europe/Berlin
TZURL:http://tzurl.org/zoneinfo-outlook/Europe/Berlin
X-LIC-LOCATION:Europe/Berlin
END:VTIMEZONE
BEGIN:VEVENT
UID:69ea23079021b
LOCATION:Hamburger Berg 13, 20359 Hamburg
SUMMARY;ENCODING=QUOTED-PRINTABLE:IU SEMESTERAUFTAKT PARTY
DESCRIPTION;ENCODING=QUOTED-PRINTABLE:Freikarten nur für IU - Student:innen und nur gültig gegen Vorlage=0D=0Ades Studierendenausweis am Einlass (Nameskontrolle).=0D=0A=0D=0AInfo: Studierendenausweis abrufbar in der IU-Learn App unter Useful=0D=0AServices/Nützliche Services.=0D=0A
URL;VALUE=URI:https://hamburgwhl.infomaxnet.de/whl-kalender/e-iu-semesterauftakt-party?eventDateId=30096627&widgetToken=ZHNkYFBmerA.&
CLASS:PUBLIC
DTSTART:20260423T200000
DTSTAMP:20260423T154751
END:VEVENT
END:VCALENDAR