BEGIN:VCALENDAR
VERSION:2.0
PRODID:http://www.infomax-online.de/imxeventmanager/
METHOD:PUBLISH
BEGIN:VTIMEZONE
TZID:Europe/Berlin
TZURL:http://tzurl.org/zoneinfo-outlook/Europe/Berlin
X-LIC-LOCATION:Europe/Berlin
END:VTIMEZONE
BEGIN:VEVENT
UID:69ea8ee159d54
LOCATION:Große Elbstraße 84, 22767 Hamburg
SUMMARY;ENCODING=QUOTED-PRINTABLE:Anger MGMT
DESCRIPTION;ENCODING=QUOTED-PRINTABLE:Sind es die Zeiten, die Kunst und Kultur wieder zu wütenden Aussagen=0D=0Atreiben? Zumindest gibt es wieder Bands, die etwas sagen wollen. Die=0D=0AInhalte für genauso wertvoll ansehen, wie die Musik. Bands, die sich=0D=0Apositionieren, die unruhig auf der Stelle treten und politisch aktiv=0D=0Asind. Die aber auch musikalisch gegen den Strom schwingen, die sich=0D=0AEmotion statt Perfektion auf die Fahne schreiben, Singles und Songs=0D=0Araushauen, als ob es kein Morgen gibt… und wer schon Begriffe wie=0D=0AAnger im Namen und Energy im Albumtitel hat, meint es ernst.=0D=0A=0D=0AANGER MGMT. der Bandname ist Programm. Hier wird Musik als Ventil=0D=0Agenutzt, um Wut in etwas Kreatives umzuwandeln. Zeitgemäss, hart,=0D=0Aruppig mit Kanten und doch eingängig mit einem leicht melancholischen=0D=0AWave-Schatten überzogen. Post Punk, Punk, Grunge, Garage Rock… Ein=0D=0Aexplosives Gemisch mit viel Punkrock-DNA.=0D=0A=0D=0AFlirrende Post-Punk-Gitarren und ballernde Beats untermauern=0D=0Aeingängige Hooklines. Texte, die in ihrer Ehrlichkeit erdrücken und=0D=0Aeine raue Stimme, die an die Independent Bands der 90er erinnert.=0D=0A=0D=0AFrontmann und Sänger Nik Petronijevic singt dabei viel über eigene=0D=0AErfahrungen mit seiner Angsterkrankung, über Suizidgedanken und das=0D=0Alatente Gefühl, nicht dazuzugehören. Trotz all diesen dunklen Themen=0D=0Agibt das Debutalbum auch Halt, Hoffnung und soll positive Energien=0D=0Afreisetzen, Wut in Energie auflösen – „ANGER IS ENERGY“!=0D=0A=0D=0ANik leidet bereits seit seiner Kindheit an einer ausgeprägten=0D=0AAngsterkrankung und Depressionen. Er hat sich dieser Krankheit=0D=0Agestellt und entstigmatisiert diese als Mental Health Aktivist in=0D=0ARadios, TV, Interviews, Podcasts und auf der Bühne. Mutig,=0D=0Aselbstbewusst und als Vorbild für die, die dies nicht können und=0D=0Asich verstecken oder dem Abwärtsstrudel nicht entziehen können.=0D=0A=0D=0AAber auch sonst befasst man sich mit politischen und=0D=0Agesellschaftlichen Themen, übt Kritik und bläst nicht billige=0D=0AParolen und Schlagworte in die Welt. Die vorab veröffentlichte Debut=0D=0ASingle und das dazugehörige Video „Fake Manhood“ befassten sich=0D=0Ain humorvoll authentischer Weise dem Thema toxischer Männlichkeit,=0D=0Aohne belehrend und vorwurfsvoll zu sein. Und mit diesem=0D=0ANon-Album-Track hat das Trio in der Schweiz für viel Aufsehen und Lob=0D=0Agesorgt.=0D=0A=0D=0ADie drei Mitglieder der Band sind aber auch keine Unbekannten in ihrer=0D=0ASzene und haben Erfahrungen in anderen Bands gesammelt. Zwei selbst=0D=0Averöffentlichte Singles und ein Video, mehrere dutzende Shows oder=0D=0ASupportslots für internationale Bands zeigen, welche Energie und DIY=0D=0AMentalität in dem Trio steckt, das in der Schweiz als einer der=0D=0Aheissen Tipps gehandelt wird. Im Mai 2026 folgt nun endlich der=0D=0ANachfolger “ANGER IS ETERNAL”.=0D=0A=0D=0A =0D=0A=0D=0AIn der Schweiz spielten sie am bekannten Newcomer Festival M4Music und=0D=0Abegeisterten mit ihrer Energie ein zahlreiches Publikum und haben=0D=0Abereits unzählige Internationale Bands Supportet: New Model Army,=0D=0AMcLusky, TV Priest, PABST, Skating Polly, Team Scheisse, My Ugly=0D=0AClementine, Black Honey, Deeper und begleiteten das Sideprojekt “AKA=0D=0ARINDE” von Dÿse-Sänger Andrej auf seiner Deutschland-Tour.=0D=0A=0D=0A =0D=0A
URL;VALUE=URI:https://hamburgwhl.infomaxnet.de/whl-kalender/e-anger-mgmt?eventDateId=30077321&widgetToken=ZHNkYFBmerA.&
CLASS:PUBLIC
DTSTART:20260423T200000
DTSTAMP:20260423T232801
END:VEVENT
END:VCALENDAR