BEGIN:VCALENDAR
VERSION:2.0
PRODID:http://www.infomax-online.de/imxeventmanager/
METHOD:PUBLISH
BEGIN:VTIMEZONE
TZID:Europe/Berlin
TZURL:http://tzurl.org/zoneinfo-outlook/Europe/Berlin
X-LIC-LOCATION:Europe/Berlin
END:VTIMEZONE
BEGIN:VEVENT
UID:69ea33e92acff
LOCATION:Reeperbahn 25, 20359 Hamburg
SUMMARY;ENCODING=QUOTED-PRINTABLE:Reeperbahn Comedy Club
DESCRIPTION;ENCODING=QUOTED-PRINTABLE:Ehrliche und authentische Stand-Up Comedy.=0D=0ALive und unzensiert.=0D=0A=0D=0ADer Testsieger!=0D=0AJeden Freitag und Samstag. =0D=0A=0D=0ABo Lüdersen präsentiert hier Stars wie Felix Lobrecht, Maxi=0D=0AGstettenbauer, Ingmar Stadelmann usw.=0D=0AAber auch Newcomern wird ein Open Mic geboten. Du hast Bock selber auf=0D=0Adie Bühne? Meld Dich gerne!=0D=0AAnfänger und Profis in einer Show. - Die Mische machts! =0D=0A=0D=0AReeperbahn 25=0D=0A20359 Hamburg=0D=0AJeden Freitag und Samstag=0D=0A19:30 Einlass=0D=0A20:00 Beginn=0D=0A22:00 Ende=0D=0A
URL;VALUE=URI:https://hamburgwhl.infomaxnet.de/whl-kalender/e-reeperbahn-comedy-club-4?eventDateId=30029813&widgetToken=ZHNkYFBmerA.&
CLASS:PUBLIC
DTSTART:20260423T200000
DTSTAMP:20260423T165953
END:VEVENT
END:VCALENDAR