BEGIN:VCALENDAR
VERSION:2.0
PRODID:http://www.infomax-online.de/imxeventmanager/
METHOD:PUBLISH
BEGIN:VTIMEZONE
TZID:Europe/Berlin
TZURL:http://tzurl.org/zoneinfo-outlook/Europe/Berlin
X-LIC-LOCATION:Europe/Berlin
END:VTIMEZONE
BEGIN:VEVENT
UID:69ea35f177f36
LOCATION:Beim Grünen Jäger 6a, 20359 Hamburg
SUMMARY;ENCODING=QUOTED-PRINTABLE:Hendrik von Bültzingslöwen - Parade
DESCRIPTION;ENCODING=QUOTED-PRINTABLE:„Parade“Vorhang auf für Hendrik von Bültzingslöwen: Er ist=0D=0AComedian, Schauspieler und lautHörzu „Kult im Internet“. In=0D=0Aseinem Soloprogramm geht es um adlige Familientage,Topfkäufe bei=0D=0AKarstadt und den Traum, einmal im Tatort die Leiche zu spielen. In=0D=0A„Parade“ präsentiert er mit amüsantem Witzund herrlicher Finesse=0D=0Adas Merkwürdige im scheinbar Normalen. Dabei sind dieBlickwinkel=0D=0Agrandios, die Gags exzellent und die Pointen perfekt. Fragt sich nur:=0D=0AWie istdas Timing? Vorsicht, Spoiler: On Point!=0D=0A=0D=0AVerpasse auf gar keinen Fall die Gelegenheit, Hendrik von=0D=0ABültzingslöwen live zu erleben!Tipp des Künstlers: Sofort Ticket=0D=0Abesorgen!Zur Person:Der Hamburger Hendrik von Bültzingslöwen ist=0D=0Aseit vielen Jahren eine feste Größe derComedy Szene. 2023 und 2024=0D=0Awar er Sieger des Hamburger Stand-up Slams. Als Schauspieler kennt man=0D=0Aihn aus etwa 100 Kino- und Fernsehproduktionen, darunterGrand Budapest=0D=0AHotel (Wes Anderson) und jerks. Seine Instagram-Reels=0D=0Awurdenmillionenfach angesehen, allen voran seine Rolle als Hipster und=0D=0AFC St. Pauli-Fan G.Alao„Parade“ ist sein erstes Solo-Programm.=0D=0A
URL;VALUE=URI:https://hamburgwhl.infomaxnet.de/whl-kalender/e-hendrik-von-bueltzingsloewen-praesentiert-von-koralle-blau-parade?eventDateId=29863283&widgetToken=ZHNkYFBmerA.&
CLASS:PUBLIC
DTSTART:20260423T200000
DTSTAMP:20260423T170833
END:VEVENT
END:VCALENDAR