BEGIN:VCALENDAR
VERSION:2.0
PRODID:http://www.infomax-online.de/imxeventmanager/
METHOD:PUBLISH
BEGIN:VTIMEZONE
TZID:Europe/Berlin
TZURL:http://tzurl.org/zoneinfo-outlook/Europe/Berlin
X-LIC-LOCATION:Europe/Berlin
END:VTIMEZONE
BEGIN:VEVENT
UID:69ea32561237e
LOCATION:Große Elbstraße 276, 22767 Hamburg
SUMMARY;ENCODING=QUOTED-PRINTABLE:Flora Chroma & Thrashkat
DESCRIPTION;ENCODING=QUOTED-PRINTABLE:FLORA CHROMA spielen gitarrenlastigen Energ-Indie, den auch Fans von=0D=0APlacebo, DIIV und den frühen Coldplay feiern würden, und verweben=0D=0Adabei Elemente aus unterschiedlichsten Stilen zu einer eigenen=0D=0AHandschrift. Thematisch bewegen sich ihre Texte zwischen Rom-Com und=0D=0AComing-of-Age-Drama. Ihre musikalische Sprache hat=0D=0AWiedererkennungswert und ist gleichzeitig facettenreich. Nach einer=0D=0AFolge ausverkaufter Konzerte in ihrer Heimatstadt Köln erschien 2025=0D=0Aihre erste EP „Elliptical Patterns“.=0D=0A=0D=0AEINLASS: 19 UHR - BEGINN: 20 UHR - VVK: 13,60€ - AK: 15€=0D=0A=0D=0ADer Vorverkauf endet um 14 Uhr am Veranstaltungstag=0D=0A=0D=0Ahttps://florachroma.bandcamp.com=0D=0A
URL;VALUE=URI:https://hamburgwhl.infomaxnet.de/whl-kalender/e-flora-chroma?eventDateId=29824284&widgetToken=ZHNkYFBmerA.&
CLASS:PUBLIC
DTSTART:20260423T200000
DTSTAMP:20260423T165310
END:VEVENT
END:VCALENDAR