BEGIN:VCALENDAR
VERSION:2.0
PRODID:http://www.infomax-online.de/imxeventmanager/
METHOD:PUBLISH
BEGIN:VTIMEZONE
TZID:Europe/Berlin
TZURL:http://tzurl.org/zoneinfo-outlook/Europe/Berlin
X-LIC-LOCATION:Europe/Berlin
END:VTIMEZONE
BEGIN:VEVENT
UID:69e694e087c94
LOCATION:Manfred-Samusch-Straße , 22926 Ahrensburg
SUMMARY;ENCODING=QUOTED-PRINTABLE:Pflanzenflohmarkt
DESCRIPTION;ENCODING=QUOTED-PRINTABLE:Die Stadt Ahrensburg lädt auch im Jahr 2026 zum traditionellen=0D=0APflanzenflohmarkt auf den Rathausplatz ein.=0D=0A=0D=0APflanzen vermehren sich und was liegt näher, als diese Pflanzen nicht=0D=0Aeinfach auf den Komposthaufen zu werfen, sondern an interessierte=0D=0ABesucher abzugeben? Welcher neue Eigenheimbesitzer sucht nicht nach=0D=0Aeiner günstigen und robusten Erstausstattung für den Garten –=0D=0Ainklusive Beratung? Wer möchte nicht nach Spezialsorten an Blumen und=0D=0Abienenfreundlichen Pflanzen stöbern und darüber klönen? Der=0D=0AFlohmarkt hält für jeden Geschmack und Bedarf etwas bereit.=0D=0A=0D=0ASeit über 30 Jahren verwandelt sich der Rathausplatz Ahrensburg zu=0D=0ABeginn und Ende der Gartensaison in ein buntes Allerlei an Pflanzen=0D=0Aund anderen guten Dingen für Natur und Garten. Hier geht es ums=0D=0Akaufen, tauschen und verschenken von privat an privat. Man trifft sich=0D=0Azum Klönschnack unter Gartenbegeisterten über Grünes, Blühendes=0D=0Aund Duftendes, Sonne und Schatten, Trocken und Feucht, Busch und Baum,=0D=0AStaude und Blume, Tier und Pflanze, Arbeit und Vergnügen.=0D=0A=0D=0AGewerbliche Händler sind nicht zugelassen.=0D=0A=0D=0ATauschen, Verschenken, Kaufen, Verkaufen, Fachsimpeln, Ideen=0D=0Aaustauschen, den Tagmit netten Leuten genießen...=0D=0ASeien Sie dabei - gerne auch mit eigenem (kostenlosen) Stand.=0D=0AEine Anmeldung ist nicht erforderlich. Bei Rückfragen melden Sie sich=0D=0Agerne unter Tel.: 04102-77277=0D=0A=0D=0AVeranstalter: Stadt Ahrensburg, Fachdienst Grünflächen und=0D=0AKlimaschutz=0D=0A
URL;VALUE=URI:https://hamburgwhl.infomaxnet.de/whl-kalender/e-pflanzenflohmarkt-1?eventDateId=29784580&widgetToken=8kEmUa5Sdtg.&
CLASS:PUBLIC
DTSTART:20260426T100000
DTSTAMP:20260420T230432
END:VEVENT
END:VCALENDAR