BEGIN:VCALENDAR
VERSION:2.0
PRODID:http://www.infomax-online.de/imxeventmanager/
METHOD:PUBLISH
BEGIN:VTIMEZONE
TZID:Europe/Berlin
TZURL:http://tzurl.org/zoneinfo-outlook/Europe/Berlin
X-LIC-LOCATION:Europe/Berlin
END:VTIMEZONE
BEGIN:VEVENT
UID:69e923ffd17d2
LOCATION:Tibarg 31, 22459 Hamburg
SUMMARY;ENCODING=QUOTED-PRINTABLE:Wochenmarkt am Tibarg
DESCRIPTION;ENCODING=QUOTED-PRINTABLE:Auf diesem Wochenmarkt finden Marktfreunde ansprechende Waren von=0D=0AKräutern über Gemüse und Fisch bis hin zu frischen Blumen und=0D=0Avielem mehr. Natürlich ist auch immer Zeit für einen Klönschnack=0D=0Abei Bratwurst und Getränk!=0D=0A
URL;VALUE=URI:https://hamburgwhl.infomaxnet.de/whl-kalender/e-wochenmarkt-am-tibarg?eventDateId=29685106&widgetToken=J2c3z9UfufA.&
CLASS:PUBLIC
DTSTART:20260425T083000
DTSTAMP:20260422T213943
END:VEVENT
END:VCALENDAR