BEGIN:VCALENDAR
VERSION:2.0
PRODID:http://www.infomax-online.de/imxeventmanager/
METHOD:PUBLISH
BEGIN:VTIMEZONE
TZID:Europe/Berlin
TZURL:http://tzurl.org/zoneinfo-outlook/Europe/Berlin
X-LIC-LOCATION:Europe/Berlin
END:VTIMEZONE
BEGIN:VEVENT
UID:69ea2867bea62
LOCATION:Reeperbahn 1, 20359 Hamburg
SUMMARY;ENCODING=QUOTED-PRINTABLE:Balu Brigada - Portal Tour
DESCRIPTION;ENCODING=QUOTED-PRINTABLE:Balu Brigada zählen aktuell zweifelsfrei zu den spannendsten Bands=0D=0Aaus Neuseeland. Mit ihrem Breakthrough-Song „So Cold“ – der=0D=0Amittlerweile über 51 Mio. Mal auf Spotify gestreamt wurde – landete=0D=0Adie Band in den USA auf Platz 1 der Alternative Radio Charts,=0D=0Aperformte den Song bei Jimmy Kimmel LIVE! und konnte damit Teil des=0D=0AFIFA-2025-Soundtracks werden. 2025 tourten sie als Support von Twenty=0D=0AOne Pilots durch die USA, Australien, Neuseeland, Europa sowie=0D=0AGroßbritannien und machten ihren eingängigen Sound zwischen Indie,=0D=0ASurf-Rock, Grunge und Alt-Pop mit energetischen Liveshows weltweit=0D=0Abekannt. Nach dem Release von vier EPs sowie einer Compilation=0D=0Aerschien Ende August 2025 Balu Brigadas langersehntes Debütalbum=0D=0A„Portal“. Das Magazin Diffus widmete sich der Band daraufhin in=0D=0Aeinem Porträt, bezeichnete sie als „next big thing“ und verglich=0D=0Asie mit The Strokes, frühen Tame-Impala-Alben sowie Gorillaz. Im=0D=0AApril 2026 kommen Balu Brigada auf ihrer ersten Headlinetour nach=0D=0ADeutschland und werden hierzulande in München, Berlin, Hamburg und=0D=0AKöln live zu sehen sein.=0D=0A=0D=0ABalu Brigada gründeten sich 2016 aus den Brüdern Henry (Gesang &=0D=0AGitarre), Charles (Schlagzeug) und Pierre Brigada (Keyboard) sowie=0D=0Aderen gemeinsamen Schulfreund Guy Harrison (Bass) in der=0D=0Aneuseeländischen Hauptstadt Auckland. Über die Zeit entwickelte sich=0D=0Adie Band zu einem Duo um Henry und Pierre, die nach mehreren=0D=0ASingle-Releases und ersten Shows in Neuseeland 2022 einen Vertrag bei=0D=0AWarner Music Australia und Atlantic Records unterschrieben. Ihren=0D=0Aeinzigartig multidimensionalen Sound zwischen modernem Indie und=0D=0AAlternative Pop begannen Balu Brigada 2022 auf ihrer Debüt-EP „I=0D=0AShould Be Home“ zu entwickeln. 2023 folgte mit „Find A Way“=0D=0Abereits die nächste Platte des Duos, die mit „Designer“ einen=0D=0Aweiteren Fanfavoriten beinhaltete. 2024 erschien mit „So Cold“ die=0D=0ASingle, die für Balu Brigada alles änderte und zu ihrem bisher=0D=0Aerfolgreichsten Song wurde. Nachdem die Band für ihren Sound längst=0D=0Avon internationalen Medien gefeiert wurde, luden Twenty One Pilots sie=0D=0Aein, sie als Special Guest auf deren Clancy Tour zu begleiten, was den=0D=0Aenergetischen Liveshows der Band weltweit eine Bühne gab. Die Single=0D=0A„Backseat“ wurde für Balu Brigada im Mai 2025 zum nächsten=0D=0AErfolg. Ende August bestätigten sie den Hype mit ihrem Debütalbum=0D=0A„Portal“, das den Sound der Band erstmalig auf voller Länge=0D=0Apräsentierte und sie im Frühjahr 2026 nach Europa bringt.=0D=0A
URL;VALUE=URI:https://hamburgwhl.infomaxnet.de/whl-kalender/e-balu-brigada-portal-tour?eventDateId=29541083&widgetToken=ZHNkYFBmerA.&
CLASS:PUBLIC
DTSTART:20260423T200000
DTSTAMP:20260423T161047
END:VEVENT
END:VCALENDAR