BEGIN:VCALENDAR
VERSION:2.0
PRODID:http://www.infomax-online.de/imxeventmanager/
METHOD:PUBLISH
BEGIN:VTIMEZONE
TZID:Europe/Berlin
TZURL:http://tzurl.org/zoneinfo-outlook/Europe/Berlin
X-LIC-LOCATION:Europe/Berlin
END:VTIMEZONE
BEGIN:VEVENT
UID:69ea0c4db180a
LOCATION:Spielbudenplatz 21-22, 20359 Hamburg
SUMMARY;ENCODING=QUOTED-PRINTABLE:Infected Rain & Butcher Babies
DESCRIPTION;ENCODING=QUOTED-PRINTABLE:Eine Veranstaltung der Reihe Infected Rain & Butcher Babies - Mutation=0D=0APhase in Europe Tour 2026=0D=0A=0D=0AInfected Rain & Butcher Babies - Mutation Phase in Europe Tour 2026=0D=0A
URL;VALUE=URI:https://hamburgwhl.infomaxnet.de/whl-kalender/e-infected-rain-butcher-babies?eventDateId=29409928&widgetToken=ZHNkYFBmerA.&
CLASS:PUBLIC
DTSTART:20260423T190000
DTSTAMP:20260423T141053
END:VEVENT
END:VCALENDAR