BEGIN:VCALENDAR
VERSION:2.0
PRODID:http://www.infomax-online.de/imxeventmanager/
METHOD:PUBLISH
BEGIN:VTIMEZONE
TZID:Europe/Berlin
TZURL:http://tzurl.org/zoneinfo-outlook/Europe/Berlin
X-LIC-LOCATION:Europe/Berlin
END:VTIMEZONE
BEGIN:VEVENT
UID:69e60f8150ea7
LOCATION:Spielbudenplatz 27-28, 20359 Hamburg
SUMMARY;ENCODING=QUOTED-PRINTABLE:Frieda Braun - Erst mal durchatmen!
DESCRIPTION;ENCODING=QUOTED-PRINTABLE:Ihr Leben ist chaotisch? Sie streiten oft, schlafen schlecht? Hilfe=0D=0Anaht: Frieda und ihre „Splittergruppe" entwickeln eigensinnige=0D=0AGrundsätze für mehr Struktur und Zufriedenheit im Alltag. Wenn=0D=0A„das Erdmännchen auf Ecstasy" mit unnachahmlicher Mimik die penible=0D=0AMia, die scheue Thekla oder die forsche Brunhild mitsamt Ehemännern=0D=0Aund Geliebten auf der Bühne lebendig werden lässt, geht dem Publikum=0D=0Adas Herz auf. Und siehe da - über die oft nervigen=0D=0AWiderspenstigkeiten unseres Daseins können wir herzhaft lachen. Einen=0D=0Aganzen Abend lang. Deshalb: Erst mal durchatmen. Und dann: viel Spaß!=0D=0A=0D=0AFrieda Braun ist regelmäßiger Gast in der WDR Ladies Night und=0D=0Alängst der Geheimtipp-Nische entwichen: Sie füllt große Hallen und=0D=0Azählt inzwischen wohl zu den erfolgreichsten Kabarettfiguren im Land.=0D=0A
URL;VALUE=URI:https://hamburgwhl.infomaxnet.de/whl-kalender/e-frieda-braun-erst-mal-durchatmen?eventDateId=29271077&widgetToken=ZHNkYFBmerA.&
CLASS:PUBLIC
DTSTART:20260421T193000
DTSTAMP:20260420T133529
END:VEVENT
END:VCALENDAR