BEGIN:VCALENDAR
VERSION:2.0
PRODID:http://www.infomax-online.de/imxeventmanager/
METHOD:PUBLISH
BEGIN:VTIMEZONE
TZID:Europe/Berlin
TZURL:http://tzurl.org/zoneinfo-outlook/Europe/Berlin
X-LIC-LOCATION:Europe/Berlin
END:VTIMEZONE
BEGIN:VEVENT
UID:69ea810e419d6
LOCATION:Klosterwall 11, 20095 Hamburg
SUMMARY;ENCODING=QUOTED-PRINTABLE:Benaissa Lamroubal - Kanakalypse
DESCRIPTION;ENCODING=QUOTED-PRINTABLE:Benaissa Lamroubal - Kanakalypse=0D=0A
URL;VALUE=URI:https://hamburgwhl.infomaxnet.de/whl-kalender/e-benaissa-lamroubal-kanakalypse?eventDateId=29189973&widgetToken=J2c3z9UfufA.&
CLASS:PUBLIC
DTSTART:20260428T200000
DTSTAMP:20260423T222902
END:VEVENT
END:VCALENDAR