BEGIN:VCALENDAR
VERSION:2.0
PRODID:http://www.infomax-online.de/imxeventmanager/
METHOD:PUBLISH
BEGIN:VTIMEZONE
TZID:Europe/Berlin
TZURL:http://tzurl.org/zoneinfo-outlook/Europe/Berlin
X-LIC-LOCATION:Europe/Berlin
END:VTIMEZONE
BEGIN:VEVENT
UID:69ea4c0449a74
LOCATION:Bernhard-Nocht-Straße 69a, 20359 Hamburg
SUMMARY;ENCODING=QUOTED-PRINTABLE:Dr. Feelgood - Doctor's Orders Anniversary Tour
DESCRIPTION;ENCODING=QUOTED-PRINTABLE:Eine Veranstaltung der Reihe Dr. Feelgood - Doctor's Orders=0D=0AAnniversary Tour 2026=0D=0A=0D=0A„Doctors Orders“ war das erste Album der heutigen Bandbesetzung,=0D=0Adamals, vor 40 Jahren, noch mit Gründungsmitglied Lee Brilleaux am=0D=0AGesang. Die Kultband Dr.Feelgood ist und bleibt ein Phänomen. Wer die=0D=0ABand heute bei einem Konzert erlebt, kommt unweigerlich in Kontakt mit=0D=0Adieser rauen, kompromisslosen Live Energie, die sie in den siebziger=0D=0AJahren zu einer der weltweit bekanntesten und spannendsten Live Bands=0D=0Ader aufkommenden britischen Pubrock-Szene machte. „Messerscharfer=0D=0ABrocken RnB“ nennt das Classic Rock Magazin ihren damals=0D=0Aentwickelten Stil, der die Seele schwarzer Musik, vor allem des Blues,=0D=0Amit der Rotzigkeit der aufkommenden Punk-Bewegung verbindet.=0D=0A=0D=0A1970 auf Canvey Island, Essex, gegründet, erreichte Dr.Feelgood mit=0D=0Aihrem Album „Stupidity“ nach ihrem No.1 Erfolg in den U.K. Charts=0D=0AFans aller Coleur. Weitere Erfolge mit Single Veröffentlichungen=0D=0Afolgten mit Songs wie Roxette, Back in the Night, Milk and Alcohol,=0D=0ADown at the Doctors. Ihre Version von See You Later Alligator erhielt=0D=0Asogar Gold Status! =0D=0A=0D=0AMit Kevin Morris am Schlagzeug, Phil Mitchell am Bass und Gordon=0D=0ARussell an der Gitarre stehen seit 1983 noch immer Musiker der=0D=0Aletzten Besetzung um Original-Sänger Lee Brilleaux auf der Bühne.=0D=0AEr verstarb 1994 und wurde seit 1999 durch Robert Kane (früher The=0D=0AAnimals) ersetzt.=0D=0A=0D=0AAuch wenn Dr.Feelgood weiterhin Alben veröffentlicht,=0D=0Azuletzt „Live in Caen“ (2024) und „Damn Right!“=0D=0A(2022), bleibt das eindeutige Markenzeichen ihre fesselnde Live-Show!=0D=0AMan kann die Energie noch immer spüren, mit der die Band einst die=0D=0AMusik-Clubs auf der ganzen Welt auseinandergenommen haben.=0D=0A
URL;VALUE=URI:https://hamburgwhl.infomaxnet.de/whl-kalender/e-dr-feelgood-doctors-orders-anniversary-tour?eventDateId=29027762&widgetToken=ZHNkYFBmerA.&
CLASS:PUBLIC
DTSTART:20260423T200000
DTSTAMP:20260423T184244
END:VEVENT
END:VCALENDAR