BEGIN:VCALENDAR
VERSION:2.0
PRODID:http://www.infomax-online.de/imxeventmanager/
METHOD:PUBLISH
BEGIN:VTIMEZONE
TZID:Europe/Berlin
TZURL:http://tzurl.org/zoneinfo-outlook/Europe/Berlin
X-LIC-LOCATION:Europe/Berlin
END:VTIMEZONE
BEGIN:VEVENT
UID:69ea28b177a7b
LOCATION:Glockengießerwall 5, 20095 Hamburg
SUMMARY;ENCODING=QUOTED-PRINTABLE:DRAG TOUR - Ausstellung: Sammlung
DESCRIPTION;ENCODING=QUOTED-PRINTABLE:Embodied Fictions – Staging the Self Each of us plays a role –=0D=0Asometimes without even realizing it. We use clichés or break them=0D=0Aapart. Our culture shapes how we present ourselves, and we shape it in=0D=0Areturn. Artists use this very creative power to challenge prejudices=0D=0Aand taboos. Some transform their lives or fantasies into art that=0D=0Amakes us think. Joy Stick presents her favorite works of the=0D=0AKunsthalle, showcasing strong voices of women and the LGBTQIA+=0D=0Acommunity. She invites you to recognize old patterns and rethink them.=0D=0ACome by, get inspired, and discover how art and performance break=0D=0Aboundaries. Join a special drag tour that shows: identity is diverse,=0D=0Acolorful, and always evolving! Our drag tours offer an extraordinary=0D=0Aand unforgettable view of the Hamburger Kunsthalle collection. Please=0D=0Anote that photos may be taken during the tour by the Hamburger=0D=0AKunsthalle for public relations purposes. The guided tour will be in=0D=0AEnglish. Participation: 6 € plus admission, available in advance.=0D=0AMeeting point: Lichtwarkgalerie / Altbautreppenhaus / Gallery Further=0D=0Ainformation about the queer offerings of the Hamburger Kunsthalle, as=0D=0Awell as dates and tickets, can be found here:=0D=0Ahttps://www.hamburger-kunsthalle.de/de/queere-angebote=0D=0A
URL;VALUE=URI:https://hamburgwhl.infomaxnet.de/whl-calendar/en/e-drag-tour-ausstellung-sammlung?eventDateId=29925663&widgetToken=J2c3z9UfufA.&
CLASS:PUBLIC
DTSTART:20260423T180000
DTSTAMP:20260423T161201
END:VEVENT
END:VCALENDAR