BEGIN:VCALENDAR
VERSION:2.0
PRODID:http://www.infomax-online.de/imxeventmanager/
METHOD:PUBLISH
BEGIN:VTIMEZONE
TZID:Europe/Berlin
TZURL:http://tzurl.org/zoneinfo-outlook/Europe/Berlin
X-LIC-LOCATION:Europe/Berlin
END:VTIMEZONE
BEGIN:VEVENT
UID:69e8fffb77ceb
LOCATION:Tibarg 31, 22459 Hamburg
SUMMARY;ENCODING=QUOTED-PRINTABLE:Wochenmarkt am Tibarg
DESCRIPTION;ENCODING=QUOTED-PRINTABLE:At this weekly market, market lovers will find appealing goods ranging=0D=0Afrom herbs, vegetables and fish to fresh flowers and much more. Of=0D=0Acourse, there is always time for a chat over a bratwurst and a drink!=0D=0A
URL;VALUE=URI:https://hamburgwhl.infomaxnet.de/whl-calendar/en/e-wochenmarkt-am-tibarg-1?eventDateId=29685108&widgetToken=J2c3z9UfufA.&
CLASS:PUBLIC
DTSTART:20260423T083000
DTSTAMP:20260422T190603
END:VEVENT
END:VCALENDAR