BEGIN:VCALENDAR
VERSION:2.0
PRODID:http://www.infomax-online.de/imxeventmanager/
METHOD:PUBLISH
BEGIN:VTIMEZONE
TZID:Europe/Berlin
TZURL:http://tzurl.org/zoneinfo-outlook/Europe/Berlin
X-LIC-LOCATION:Europe/Berlin
END:VTIMEZONE
BEGIN:VEVENT
UID:69e8d25977982
LOCATION:Tibarg 31, 22459 Hamburg
SUMMARY;ENCODING=QUOTED-PRINTABLE:Bio-Wochenmarkt… und Regionales Niendorf
DESCRIPTION;ENCODING=QUOTED-PRINTABLE:Food from sustainable cultivation and animal-friendly rearing, flowers=0D=0Afrom the region and products that were made with passion and craft,=0D=0Athere is the organic weekly market.=0D=0A
URL;VALUE=URI:https://hamburgwhl.infomaxnet.de/whl-calendar/en/e-bio-wochenmarkt-und-regionales-niendorf?eventDateId=29681007&widgetToken=J2c3z9UfufA.&
CLASS:PUBLIC
DTSTART:20260424T090000
DTSTAMP:20260422T155121
END:VEVENT
END:VCALENDAR