BEGIN:VCALENDAR
VERSION:2.0
PRODID:http://www.infomax-online.de/imxeventmanager/
METHOD:PUBLISH
BEGIN:VTIMEZONE
TZID:Europe/Berlin
TZURL:http://tzurl.org/zoneinfo-outlook/Europe/Berlin
X-LIC-LOCATION:Europe/Berlin
END:VTIMEZONE
BEGIN:VEVENT
UID:69e589e763246
LOCATION:Hinter dem Klosterhof 31, 25524 Itzehoe
SUMMARY;ENCODING=QUOTED-PRINTABLE:Lesekreis Stadtbibliothek Itzehoe
DESCRIPTION;ENCODING=QUOTED-PRINTABLE:Der Lesekreis trifft sich jeden 3. Dienstag im Monat in der=0D=0AStadtbibliothek.=0D=0A=0D=0ABei den Versammlungen wird über die Bücher geredet, die sich der=0D=0ALesekreis gemeinsam aussucht. Die Treffen finden einmal im Monat=0D=0Astatt.=0D=0A=0D=0ADie Titel müssen Sie sich nicht extra kaufen – mit einer Lesekarte=0D=0Ader Stadtbibliothek können Sie sich die Bücher unkompliziert über=0D=0Aden Leihverkehr bestellen.=0D=0A=0D=0ADer Lesekreis freut sich über viele Teilnehmende. Alle sind herzlich=0D=0Awillkommen!=0D=0A
URL;VALUE=URI:https://hamburgwhl.infomaxnet.de/teaser/e-lesekreis-stadtbibliothek-itzehoe?eventDateId=30116695&widgetToken=rU39zCg4l9Q.&
CLASS:PUBLIC
DTSTART:20260421T160000
DTSTAMP:20260420T040527
END:VEVENT
END:VCALENDAR