BEGIN:VCALENDAR
VERSION:2.0
PRODID:http://www.infomax-online.de/imxeventmanager/
METHOD:PUBLISH
BEGIN:VTIMEZONE
TZID:Europe/Berlin
TZURL:http://tzurl.org/zoneinfo-outlook/Europe/Berlin
X-LIC-LOCATION:Europe/Berlin
END:VTIMEZONE
BEGIN:VEVENT
UID:69eb71a64f7c0
LOCATION:Wilhelm-Biel-Straße 2, 25524 Itzehoe
SUMMARY;ENCODING=QUOTED-PRINTABLE:Gottesdienst im Olendeel
DESCRIPTION;ENCODING=QUOTED-PRINTABLE:LEITUNG=0D=0A=0D=0APastorin Mona Rieg=0D=0A=0D=0AVERANSTALTER=0D=0A=0D=0A	* Krankenhausseelsorge im Klinikum Itzehoe=0D=0A[https://www.nordkirche.de/institution/?nkci=11724]=0D=0A=0D=0A
URL;VALUE=URI:https://hamburgwhl.infomaxnet.de/teaser/e-gottesdienst-im-olendeel-27?eventDateId=30093413&widgetToken=rU39zCg4l9Q.&
CLASS:PUBLIC
DTSTART:20260424T153000
DTSTAMP:20260424T153534
END:VEVENT
END:VCALENDAR