BEGIN:VCALENDAR
VERSION:2.0
PRODID:http://www.infomax-online.de/imxeventmanager/
METHOD:PUBLISH
BEGIN:VTIMEZONE
TZID:Europe/Berlin
TZURL:http://tzurl.org/zoneinfo-outlook/Europe/Berlin
X-LIC-LOCATION:Europe/Berlin
END:VTIMEZONE
BEGIN:VEVENT
UID:69eb88bea390b
LOCATION:Finnische Allee 29, 25551 Hohenlockstedt
SUMMARY;ENCODING=QUOTED-PRINTABLE:Rüstandacht zur Konfirmation mit Abendmahl
DESCRIPTION;ENCODING=QUOTED-PRINTABLE:LEITUNG=0D=0A=0D=0APastor Patrick-Fabian Landmesser=0D=0A=0D=0AVERANSTALTER=0D=0A=0D=0A	* Ev.-Luth. Kirchengemeinde Hohenlockstedt=0D=0A[https://www.nordkirche.de/institution/?nkci=1413]=0D=0A=0D=0A
URL;VALUE=URI:https://hamburgwhl.infomaxnet.de/teaser/e-ruestandacht-zur-konfirmation-mit-abendmahl?eventDateId=30074914&widgetToken=rU39zCg4l9Q.&
CLASS:PUBLIC
DTSTART:20260424T180000
DTSTAMP:20260424T171406
END:VEVENT
END:VCALENDAR