BEGIN:VCALENDAR
VERSION:2.0
PRODID:http://www.infomax-online.de/imxeventmanager/
METHOD:PUBLISH
BEGIN:VTIMEZONE
TZID:Europe/Berlin
TZURL:http://tzurl.org/zoneinfo-outlook/Europe/Berlin
X-LIC-LOCATION:Europe/Berlin
END:VTIMEZONE
BEGIN:VEVENT
UID:69ecc71046604
LOCATION:Kirchenstraße 2, 25364 Brande-Hörnerkirchen
SUMMARY;ENCODING=QUOTED-PRINTABLE:Konfirmanden-Abendmahl
DESCRIPTION;ENCODING=QUOTED-PRINTABLE:LEITUNG=0D=0A=0D=0APastor Dr. Ulrich Palmer und Tatjana Schütz=0D=0A=0D=0AVERANSTALTER=0D=0A=0D=0A	* Ev.-Luth. Christus-Kirchengemeinde Hohenfelde-Hörnerkirchen=0D=0A[https://www.nordkirche.de/institution/?nkci=399]=0D=0A=0D=0A
URL;VALUE=URI:https://hamburgwhl.infomaxnet.de/teaser/e-konfirmanden-abendmahl-2?eventDateId=30074851&widgetToken=rU39zCg4l9Q.&
CLASS:PUBLIC
DTSTART:20260425T180000
DTSTAMP:20260425T155216
END:VEVENT
END:VCALENDAR