BEGIN:VCALENDAR
VERSION:2.0
PRODID:http://www.infomax-online.de/imxeventmanager/
METHOD:PUBLISH
BEGIN:VTIMEZONE
TZID:Europe/Berlin
TZURL:http://tzurl.org/zoneinfo-outlook/Europe/Berlin
X-LIC-LOCATION:Europe/Berlin
END:VTIMEZONE
BEGIN:VEVENT
UID:69e589fe3d470
LOCATION:Kirchenstraße 8, 25524 Itzehoe
SUMMARY;ENCODING=QUOTED-PRINTABLE:Musik zur Marktzeit
DESCRIPTION;ENCODING=QUOTED-PRINTABLE:Jeden Donnerstag um 11 Uhr von April bis September in der St.=0D=0ALaurentii-Kirche.=0D=0A=0D=0AHerzliche Einladung zu Orgelmusik und guten Worten=0D=0A=0D=0AVERANSTALTER=0D=0A=0D=0A	* St. Laurentii Itzehoe=0D=0A[https://www.nordkirche.de/institution/?nkci=3580]=0D=0A=0D=0A
URL;VALUE=URI:https://hamburgwhl.infomaxnet.de/teaser/e-musik-zur-marktzeit-40?eventDateId=29991332&widgetToken=rU39zCg4l9Q.&
CLASS:PUBLIC
DTSTART:20260423T110000
DTSTAMP:20260420T040550
END:VEVENT
END:VCALENDAR