BEGIN:VCALENDAR
VERSION:2.0
PRODID:http://www.infomax-online.de/imxeventmanager/
METHOD:PUBLISH
BEGIN:VTIMEZONE
TZID:Europe/Berlin
TZURL:http://tzurl.org/zoneinfo-outlook/Europe/Berlin
X-LIC-LOCATION:Europe/Berlin
END:VTIMEZONE
BEGIN:VEVENT
UID:69e9f4701bb5f
LOCATION:Waldhüttener Weg , 24613 Aukrug
SUMMARY;ENCODING=QUOTED-PRINTABLE:Abenteuer Natur
DESCRIPTION;ENCODING=QUOTED-PRINTABLE:Aus Selbstschutz vor Reizüberflutung lernen Kinder heute oft viel zu=0D=0Afrüh, ihre Sinne auszuschalten. Doch wir brauchen all unsere Sinne,=0D=0Aum Dinge buchstäblich be-greifen und er-fassen zu können. In der=0D=0ANatur sind Geräusche kein Lärm, sondern führen uns zurück zu=0D=0Aunserem Inneren und geben uns Kraft für den stressigen Alltag, dem=0D=0Adie Kinder leider schon in der Schule ausgesetzt sind. Neben Picknick,=0D=0ASpielen, Wahrnehmungsübungen und einer Werkarbeit soll hierbei aus=0D=0Adas Freispiel nicht zu kurz kommen.=0D=0A=0D=0AAbenteuer Natur ist ein einzigartiges Erlebnis, das darauf abzielt,=0D=0Adie Sinne zu schärfen und die natürliche Welt zu erkunden. In der=0D=0Aheutigen Zeit, in der Kinder oft früh lernen, ihre Sinne aus=0D=0ASelbstschutz vor Reizüberflutung auszuschalten, bietet dieses Event=0D=0Aeine willkommene Abwechslung. Es ist wichtig, alle Sinne zu nutzen, um=0D=0Adie Welt buchstäblich zu 'begreifen' und 'erfassen' zu können. In=0D=0Ader Natur werden Geräusche nicht als Lärm wahrgenommen, sondern=0D=0Aführen zurück zum Inneren und bieten Kraft für den stressigen=0D=0AAlltag, dem Kinder bereits in der Schule ausgesetzt sind. Abenteuer=0D=0ANatur bietet neben Picknick und Spielen auch Wahrnehmungsübungen und=0D=0AWerkarbeiten an. Darüber hinaus wird auch das Freispiel nicht=0D=0Avernachlässigt. Dieses Event ist eine hervorragende Möglichkeit, die=0D=0Anatürliche Welt zu erkunden und gleichzeitig die Sinne zu schärfen.=0D=0A=0D=0ALeitung: Wiebke Stieper (Naturpädagogin) =0D=0AAnmeldung unter: 0152-54204518 (gerne per WhatsApp) oder=0D=0Azier-wiebke@web.de=0D=0ATreffpunkt: Waldhütten (Genaueres wird bei der Anmeldung=0D=0Abekanntgegeben)=0D=0AHinweis: warme Kleidung, etwas zu trinken und zu essen mitbringen   =0D=0A                                             =0D=0A                                             =0D=0A                                      Kosten:=0D=0A6,00€ =0D=0A
URL;VALUE=URI:https://hamburgwhl.infomaxnet.de/teaser/e-abenteuer-natur?eventDateId=29824821&widgetToken=rU39zCg4l9Q.&
CLASS:PUBLIC
DTSTART:20260418T140000
DTSTAMP:20260423T122904
END:VEVENT
END:VCALENDAR