BEGIN:VCALENDAR
VERSION:2.0
PRODID:http://www.infomax-online.de/imxeventmanager/
METHOD:PUBLISH
BEGIN:VTIMEZONE
TZID:Europe/Berlin
TZURL:http://tzurl.org/zoneinfo-outlook/Europe/Berlin
X-LIC-LOCATION:Europe/Berlin
END:VTIMEZONE
BEGIN:VEVENT
UID:69eb6b8303a13
LOCATION:Theaterplatz 1, 25524 Itzehoe
SUMMARY;ENCODING=QUOTED-PRINTABLE:Young Voices #6
DESCRIPTION;ENCODING=QUOTED-PRINTABLE:Konzert mit INSA präsentiert von den Freunden des theater itzehoe=0D=0Ae.V.=0D=0A
URL;VALUE=URI:https://hamburgwhl.infomaxnet.de/teaser/e-young-voices-6?eventDateId=28990563&widgetToken=rU39zCg4l9Q.&
CLASS:PUBLIC
DTSTART:20260424T193000
DTSTAMP:20260424T150923
END:VEVENT
END:VCALENDAR