BEGIN:VCALENDAR
VERSION:2.0
PRODID:http://www.infomax-online.de/imxeventmanager/
METHOD:PUBLISH
BEGIN:VTIMEZONE
TZID:Europe/Berlin
TZURL:http://tzurl.org/zoneinfo-outlook/Europe/Berlin
X-LIC-LOCATION:Europe/Berlin
END:VTIMEZONE
BEGIN:VEVENT
UID:69e8c3182c2b6
LOCATION:Theaterplatz 1, 25524 Itzehoe
SUMMARY;ENCODING=QUOTED-PRINTABLE:Eine Mords-Freundin
DESCRIPTION;ENCODING=QUOTED-PRINTABLE:Komödie von Steven Moffat mit dem Schleswig-Holsteinischen=0D=0ALandestheater=0D=0A
URL;VALUE=URI:https://hamburgwhl.infomaxnet.de/teaser/e-eine-mords-freundin-1?eventDateId=28990562&widgetToken=rU39zCg4l9Q.&
CLASS:PUBLIC
DTSTART:20260423T193000
DTSTAMP:20260422T144616
END:VEVENT
END:VCALENDAR