BEGIN:VCALENDAR
VERSION:2.0
PRODID:http://www.infomax-online.de/imxeventmanager/
METHOD:PUBLISH
BEGIN:VTIMEZONE
TZID:Europe/Berlin
TZURL:http://tzurl.org/zoneinfo-outlook/Europe/Berlin
X-LIC-LOCATION:Europe/Berlin
END:VTIMEZONE
BEGIN:VEVENT
UID:69ed32a72f3b3
LOCATION:Plüter 1, 19230 Bresegard bei Picher
SUMMARY;ENCODING=QUOTED-PRINTABLE:Alpaca hike
DESCRIPTION;ENCODING=QUOTED-PRINTABLE:Experience the special magic of exploring the beauty and tranquillity=0D=0Aof the heathland with these wonderful alpacas with their strong=0D=0Acharacters! Some of our alpacas usually choose their human hiking=0D=0Apartner themselves. As soon as all human-alpaca pairs have been found,=0D=0Awe start the hike. =0D=0A=0D=0AEXPERIENCE THE SPECIAL MAGIC OF EXPLORING THE BEAUTY AND TRANQUILLITY=0D=0AOF THE HEATHLAND WITH THE WONDERFUL ALPACAS WITH THEIR STRONG=0D=0ACHARACTER!=0D=0A=0D=0ABefore the start of the alpaca hike, we will tell you about the=0D=0Aorigins, special features and characteristics of the alpacas. You will=0D=0Areceive a safety briefing and learn what you need to be aware of=0D=0Aduring the hike. Afterwards you will get to know our alpacas. Of=0D=0Acourse, all our alpacas have names and each one is special. As soon as=0D=0Aall the human-alpaca pairs have been found, we start the hike. You=0D=0Awill have plenty of time to get to know your partner alpaca and will=0D=0Acertainly learn a lot about yourselves. This is because alpacas are=0D=0Avery sensitive, curious animals that are able to mirror you.=0D=0A=0D=0AThe hikes are guided and the group size (from 6 human-alpaca teams)=0D=0Aensures that the alpacas feel comfortable and want to get involved=0D=0Awith you.=0D=0A=0D=0AAfter the hike, you can round off the afternoon in our farm café or=0D=0Abrowse through our farm store afterwards.=0D=0A=0D=0AEQUIPMENT RECOMMENDATIONS / INFORMATION=0D=0A=0D=0A	* Sturdy shoes suitable for the weather and the forest=0D=0A	* warm and weatherproof clothing (we also walk in rain, wind or snow)=0D=0A	* the tour is not suitable for baby carriages (sandy forest paths),=0D=0Asmall children and babies can be taken along in a back carrier=0D=0A	* Dogs are not permitted on this hike=0D=0A	* Children of all ages can take part; it is generally at the parents'=0D=0Adiscretion whether the child can already take part in a two-hour hike=0D=0Aat the pace of the mixed group.=0D=0A=0D=0A
URL;VALUE=URI:https://hamburgwhl.infomaxnet.de/standard_widget_en/en/e-alpaca-hike-1?eventDateId=30203748&widgetToken=22vcqFKw4GE.&
CLASS:PUBLIC
DTSTART:20260425T140000
DTSTAMP:20260425T233119
END:VEVENT
END:VCALENDAR