BEGIN:VCALENDAR
VERSION:2.0
PRODID:http://www.infomax-online.de/imxeventmanager/
METHOD:PUBLISH
BEGIN:VTIMEZONE
TZID:Europe/Berlin
TZURL:http://tzurl.org/zoneinfo-outlook/Europe/Berlin
X-LIC-LOCATION:Europe/Berlin
END:VTIMEZONE
BEGIN:VEVENT
UID:69eb221d44813
LOCATION:Schliemannstraße 2, 19055 Schwerin
SUMMARY;ENCODING=QUOTED-PRINTABLE:Bea Davies "The Legend of Arthur"
DESCRIPTION;ENCODING=QUOTED-PRINTABLE:The wonderful illustrations by Bea Davies from the book "The Legend of=0D=0AArthur" can be admired in our bookshop littera et cetera.=0D=0A=0D=0ABea Davies, born in Italy in 1990, is an award-winning illustrator and=0D=0Acomic artist.=0D=0A=0D=0AHer first illustrated children's book "Brummps", written by Dita=0D=0AZipfel, received the "Most Beautiful German Books" award from Stiftung=0D=0ABuchkunst.=0D=0A=0D=0AHer graphic novel debut "Super-Gau" was published in 2025 and she=0D=0Areceived the German Youth Literature Prize in 2025 for her work on the=0D=0Achildren's book "Himmelwärts".=0D=0A=0D=0AThe enchanting illustrations by Bea Davies from the book "Die Legende=0D=0Avon Artus", newly and very finely told by Anna Kindermann, published=0D=0Aby Kindermann Verlag Berlin, can be admired here.=0D=0A=0D=0AWe are very much looking forward to seeing you!=0D=0A
URL;VALUE=URI:https://hamburgwhl.infomaxnet.de/standard_widget_en/en/e-bea-davies-the-legend-of-arthur?eventDateId=30201474&widgetToken=22vcqFKw4GE.&
CLASS:PUBLIC
DTSTART:20260428T090000
DTSTAMP:20260424T095613
END:VEVENT
END:VCALENDAR