BEGIN:VCALENDAR
VERSION:2.0
PRODID:http://www.infomax-online.de/imxeventmanager/
METHOD:PUBLISH
BEGIN:VTIMEZONE
TZID:Europe/Berlin
TZURL:http://tzurl.org/zoneinfo-outlook/Europe/Berlin
X-LIC-LOCATION:Europe/Berlin
END:VTIMEZONE
BEGIN:VEVENT
UID:69e91a1950361
LOCATION:St. Pauli Fischmarkt 27, 20359 Hamburg
SUMMARY;ENCODING=QUOTED-PRINTABLE:Kann denn Liebe Synthie sein
DESCRIPTION;ENCODING=QUOTED-PRINTABLE:The legendary party series “Kann denn Liebe Synthie sein” returns=0D=0Aafter a long break — this time in a special edition: Katja Ruge=0D=0A(Electric Lights, Hamburg) celebrates her birthday together with=0D=0ARichard Fearless (London) and Frank Husemann (Synthesizerstudio=0D=0AHamburg).=0D=0A=0D=0AExpect a layered deep dive into the world of synthesizers — from=0D=0Aexperimental electronics to dark club sounds, and everything unfolding=0D=0Ain between. The title is more than just a promise: a night dedicated=0D=0Ato the full spectrum and expressive power of synth-driven music.=0D=0A
URL;VALUE=URI:https://hamburgwhl.infomaxnet.de/standard_widget_en/en/e-kann-denn-liebe-synthie-sein?eventDateId=30190714&widgetToken=22vcqFKw4GE.&
CLASS:PUBLIC
DTSTART:20260425T220000
DTSTAMP:20260422T205729
END:VEVENT
END:VCALENDAR