BEGIN:VCALENDAR
VERSION:2.0
PRODID:http://www.infomax-online.de/imxeventmanager/
METHOD:PUBLISH
BEGIN:VTIMEZONE
TZID:Europe/Berlin
TZURL:http://tzurl.org/zoneinfo-outlook/Europe/Berlin
X-LIC-LOCATION:Europe/Berlin
END:VTIMEZONE
BEGIN:VEVENT
UID:69ed9589bbea6
LOCATION:Putlitzer Straße 25, 19370 Parchim
SUMMARY;ENCODING=QUOTED-PRINTABLE:Literature concert: "Germany, can't you see that?"
DESCRIPTION;ENCODING=QUOTED-PRINTABLE:Wind quintet OPUS 45 and actor Roman Knižka are guests at Solitär=0D=0AParchim. Admission is free!=0D=0A=0D=0AWith their literary concert "Deutschland, siehst du das nicht?" they=0D=0Acombine music and texts from the late Weimar Republic. Works by Hanns=0D=0AEisler, Kurt Weill, Erwin Schulhoff, Jean Françaix, Paul Juon, as=0D=0Awell as swing and pop songs by Cole Porter or the Comedian Harmonists=0D=0Ameet texts by Kurt Tucholsky, Erich Kästner, Mascha Kaléko, Victor=0D=0AKlemperer, Sebastian Haffner and Dorothy Thompson, among others.=0D=0ATogether they trace the development from the cultural upheavals of the=0D=0A1920s to the Nazi takeover.=0D=0A=0D=0AAt the heart of the program is a question that is still relevant=0D=0Atoday: What lessons can we learn from the failure of the first German=0D=0Ademocracy?=0D=0A=0D=0AThe event is part of the series of events organized by the Wöbbelin=0D=0AMemorials to mark the anniversary of the liberation of the Wöbbelin=0D=0Aconcentration camp on 2 May 1945. It is sponsored by the=0D=0AMecklenburg-Vorpommern State Agency for Civic Education.=0D=0A=0D=0ASunday, April 26, 2026=0D=0AStart: 15:00 hrs | Admission: 14:30 hrs=0D=0ASolitär Parchim, Putlitzer Str. 25=0D=0A
URL;VALUE=URI:https://hamburgwhl.infomaxnet.de/standard_widget_en/en/e-literature-concert-germany-cant-you-see-that?eventDateId=30189249&widgetToken=22vcqFKw4GE.&
CLASS:PUBLIC
DTSTART:20260426T150000
DTSTAMP:20260426T063313
END:VEVENT
END:VCALENDAR