BEGIN:VCALENDAR
VERSION:2.0
PRODID:http://www.infomax-online.de/imxeventmanager/
METHOD:PUBLISH
BEGIN:VTIMEZONE
TZID:Europe/Berlin
TZURL:http://tzurl.org/zoneinfo-outlook/Europe/Berlin
X-LIC-LOCATION:Europe/Berlin
END:VTIMEZONE
BEGIN:VEVENT
UID:69e8a020cf170
LOCATION:Im Thurow 18, 23948 Klütz
SUMMARY;ENCODING=QUOTED-PRINTABLE:Hatha Yoga for all
DESCRIPTION;ENCODING=QUOTED-PRINTABLE:simplynuryoga in Thurow 18, 23948 Klütz, =0D=0A=0D=0AThis course can be attended by all who have a desire for movement and=0D=0Arelaxation. Both yoga beginners and yoga experienced will get their=0D=0Amoney's worth in this course. The right exercise will be found for=0D=0Aeveryone and everyone will feel strengthened and deeply relaxed. Yoga=0D=0Apostures, breathing exercises and relaxation techniques will be=0D=0Apracticed.=0D=0A=0D=0ACourse fee: 19 €=0D=0A=0D=0APick up from Boltenhagen if needed.=0D=0A=0D=0ARegistration with Susann Schramm Tel.: 0176-23551236=0D=0A
URL;VALUE=URI:https://hamburgwhl.infomaxnet.de/standard_widget_en/en/e-hatha-yoga-for-all?eventDateId=30186380&widgetToken=22vcqFKw4GE.&
CLASS:PUBLIC
DTSTART:20260421T190000
DTSTAMP:20260422T121704
END:VEVENT
END:VCALENDAR