BEGIN:VCALENDAR
VERSION:2.0
PRODID:http://www.infomax-online.de/imxeventmanager/
METHOD:PUBLISH
BEGIN:VTIMEZONE
TZID:Europe/Berlin
TZURL:http://tzurl.org/zoneinfo-outlook/Europe/Berlin
X-LIC-LOCATION:Europe/Berlin
END:VTIMEZONE
BEGIN:VEVENT
UID:69e8cfb16b8c0
LOCATION:Im Thurow 18, 23948 Klütz
SUMMARY;ENCODING=QUOTED-PRINTABLE:Hatha Yoga gentle with Yin
DESCRIPTION;ENCODING=QUOTED-PRINTABLE:simplynuryoga in Thurow 18, 23948 Klütz=0D=0A=0D=0APick up from Boltenhagen if required.=0D=0A=0D=0ACourse fee: 19 €=0D=0A=0D=0ARegistration with Susann Schramm Tel.: 0176-23551236=0D=0A
URL;VALUE=URI:https://hamburgwhl.infomaxnet.de/standard_widget_en/en/e-hatha-yoga-gentle-with-yin?eventDateId=30186307&widgetToken=22vcqFKw4GE.&
CLASS:PUBLIC
DTSTART:20260423T170000
DTSTAMP:20260422T154001
END:VEVENT
END:VCALENDAR