BEGIN:VCALENDAR
VERSION:2.0
PRODID:http://www.infomax-online.de/imxeventmanager/
METHOD:PUBLISH
BEGIN:VTIMEZONE
TZID:Europe/Berlin
TZURL:http://tzurl.org/zoneinfo-outlook/Europe/Berlin
X-LIC-LOCATION:Europe/Berlin
END:VTIMEZONE
BEGIN:VEVENT
UID:69e89fff49ed0
LOCATION:Im Thurow 18, 23948 Klütz
SUMMARY;ENCODING=QUOTED-PRINTABLE:Hatha Yoga gentle
DESCRIPTION;ENCODING=QUOTED-PRINTABLE:simplynuryoga in Thurow 18, 23948 Klütz=0D=0A=0D=0AThe course wants to help to slow down in a time where it is all about=0D=0Agetting a lot done quickly. We focus on what the body tells us,=0D=0Apractice rather gently (which does not mean less intense) and=0D=0Areconnect body and mind while learning the asanas (yoga postures) and=0D=0Aconcentration exercises.=0D=0A=0D=0APick up from Boltenhagen if needed.=0D=0A=0D=0ACourse fee: 19 €=0D=0A=0D=0ARegistration with Susann Schramm Tel.: 0176-23551236=0D=0A
URL;VALUE=URI:https://hamburgwhl.infomaxnet.de/standard_widget_en/en/e-hatha-yoga-gentle?eventDateId=30186206&widgetToken=22vcqFKw4GE.&
CLASS:PUBLIC
DTSTART:20260423T100000
DTSTAMP:20260422T121631
END:VEVENT
END:VCALENDAR