BEGIN:VCALENDAR
VERSION:2.0
PRODID:http://www.infomax-online.de/imxeventmanager/
METHOD:PUBLISH
BEGIN:VTIMEZONE
TZID:Europe/Berlin
TZURL:http://tzurl.org/zoneinfo-outlook/Europe/Berlin
X-LIC-LOCATION:Europe/Berlin
END:VTIMEZONE
BEGIN:VEVENT
UID:69e5a8b8d72ae
LOCATION:Klützer Straße 1b, 23936 Grevesmühlen
SUMMARY;ENCODING=QUOTED-PRINTABLE:Opening of the bedding and balcony plant season at Blumen Mundt
DESCRIPTION;ENCODING=QUOTED-PRINTABLE:On April 24/25, 2026, we cordially invite you to the season opening of=0D=0Aour bedding and balcony plants. You can look forward to a varied=0D=0Aprogram as well as a bouncy castle and cake bazaar for the whole=0D=0Afamily.=0D=0A=0D=0ASpring is just around the corner - and we would like to celebrate this=0D=0Awith you!=0D=0A=0D=0AWe cordially invite you to the season opening of bedding and balcony=0D=0Aplants at Blumen Mundt.=0D=0A=0D=0ALook forward to a colorful season opening full of inspiration for=0D=0Aplants, gardens and balconies. Discover our large selection of=0D=0Aflowering beauties and be inspired by the latest trends and lovingly=0D=0Adesigned arrangements.=0D=0A=0D=0ADate: April 24/25, 2026=0D=0ALocation: Blumen Mundt, Klützer Straße 1b, 23936 Grevesmühlen=0D=0A=0D=0AThe program=0D=0AFriday:=0D=0A09:30 a.m. - Kita am Tannenberg=0D=0A15:30 - GCC Mäuse=0D=0A=0D=0ASaturday:=0D=0A10:30 am - Fundancer=0D=0A14:00 - Tanzsportgarde Blau-Weiß GVM=0D=0A=0D=0AWhat you can expect=0D=0A=0D=0A	* Large selection of bedding and balcony plants=0D=0A	* "Plant of the year": Tender Marte=0D=0A	* Entertainment for young and old=0D=0A	* Bouncy castle for children=0D=0A	* Cake bazaar and other treats=0D=0A=0D=0A
URL;VALUE=URI:https://hamburgwhl.infomaxnet.de/standard_widget_en/en/e-opening-of-the-bedding-and-balcony-plant-season-at-blumen-mundt?eventDateId=30184549&widgetToken=22vcqFKw4GE.&
CLASS:PUBLIC
DTSTART:20260424T080000
DTSTAMP:20260420T061656
END:VEVENT
END:VCALENDAR