BEGIN:VCALENDAR
VERSION:2.0
PRODID:http://www.infomax-online.de/imxeventmanager/
METHOD:PUBLISH
BEGIN:VTIMEZONE
TZID:Europe/Berlin
TZURL:http://tzurl.org/zoneinfo-outlook/Europe/Berlin
X-LIC-LOCATION:Europe/Berlin
END:VTIMEZONE
BEGIN:VEVENT
UID:69e75c94a3603
LOCATION:Platz der Deutschen Einheit 1, 20457 Hamburg
SUMMARY;ENCODING=QUOTED-PRINTABLE:Magdalena Kožená / Song Recital
DESCRIPTION;ENCODING=QUOTED-PRINTABLE:For more than two decades, Magdalena Kožená has delighted a global=0D=0Aaudience as one of the world’s leading voices. The New York Times=0D=0Aonce described her unique presence as: »Vocally elegant, emotionally=0D=0Adirect and stylistically aware.« In the private ambience of the=0D=0ARecital Hall, this versatile singing performer, accompanied solely by=0D=0ADaniele Caminiti’s sensitive lute-playing, presents a programme with=0D=0Abaroque classics, such as Purcell’s world-famous lament »When I Am=0D=0ALaid in Earth« and arias by the composer and prima donna Barbara=0D=0AStrozzi.=0D=0A=0D=0APLEASE NOTE: Daniele Caminiti was originally supposed to accompany=0D=0AMagdalena Kožená on the lute at this concert. Unfortunately,=0D=0ACaminiti had to cancel his participation due to a hand injury. Theorbo=0D=0Aplayer Azul Lima will step in for him. The programme remains=0D=0Aunchanged.=0D=0A=0D=0APERFORMERS=0D=0A=0D=0AMAGDALENA KOŽENÁ mezzo-soprano=0D=0A=0D=0AJUAN SEBASTIÁN LIMA theorbo, romantic guitar=0D=0A=0D=0APROGRAM=0D=0A=0D=0AHENRY PURCELL=0D=0AMusic for a While=0D=0A=0D=0AHENRY PURCELL=0D=0ASweeter than Roses=0D=0A=0D=0AJOHN DOWLAND=0D=0AIn Darkness Let Me Dwell=0D=0A=0D=0AAZUL LIMA=0D=0AImprovisation=0D=0A=0D=0ATARQUINIO MERULA=0D=0ACanzonetta spirituale sopra la Nanna »Hor ch’è tempo di dormire«=0D=0A=0D=0AGIOVANNI GIROLAMO KAPSPERGER=0D=0AKapsperger=0D=0A=0D=0ABRETT DEAN=0D=0AGertrude Fragments=0D=0A=0D=0AHENRY PURCELL=0D=0AWhen I am Laid in Earth=0D=0A=0D=0A- Interval -=0D=0A=0D=0ABARBARA STROZZI=0D=0ALagrime mie / Lamento=0D=0A=0D=0AGIOVANNI GIROLAMO KAPSPERGER=0D=0AToccata arpeggiata=0D=0A=0D=0AGIULIO CACCINI=0D=0AOdi, Euterpe, il dolce canto=0D=0A=0D=0AMARC ANTONIO CESTI=0D=0ADisseratevi abissi=0D=0A=0D=0AAZUL LIMA=0D=0APassacaglia (Improvisation)=0D=0A=0D=0ALUCIANO BERIO=0D=0ASequenza III for Female Voice=0D=0A=0D=0ATARQUINIO MERULA=0D=0AQuando io voisi l’altra sera=0D=0A
URL;VALUE=URI:https://hamburgwhl.infomaxnet.de/standard_widget_en/en/e-magdalena-kozena-liederabend?eventDateId=30183678&widgetToken=22vcqFKw4GE.&
CLASS:PUBLIC
DTSTART:20260424T193000
DTSTAMP:20260421T131636
END:VEVENT
END:VCALENDAR