BEGIN:VCALENDAR
VERSION:2.0
PRODID:http://www.infomax-online.de/imxeventmanager/
METHOD:PUBLISH
BEGIN:VTIMEZONE
TZID:Europe/Berlin
TZURL:http://tzurl.org/zoneinfo-outlook/Europe/Berlin
X-LIC-LOCATION:Europe/Berlin
END:VTIMEZONE
BEGIN:VEVENT
UID:69ebf6ce03024
LOCATION:Johannes-Brahms-Platz , 20355 Hamburg
SUMMARY;ENCODING=QUOTED-PRINTABLE:Tutty Tran
DESCRIPTION;ENCODING=QUOTED-PRINTABLE:Tutty Trans’ stories about his Vietnamese father and his endearing=0D=0Aaccent have long been legendary. Sayings such as »Kein Flei?« or=0D=0A»HAI DAI MAU« flood social networks and have also achieved cult=0D=0Astatus beyond them. Now he is going one better: in his new programme,=0D=0Athe master of culture clash comedy takes aim at clichés with ruthless=0D=0Adirectness – whether it’s himself, the German-Vietnamese culture=0D=0Aor his friends with and without a migration background: no one is safe=0D=0Afrom him. Not even his Saxon girlfriend. This is comedy inclusion in=0D=0Aaction!=0D=0A=0D=0APERFORMERS=0D=0A=0D=0ATUTTY TRAN comedian=0D=0A=0D=0APROGRAM=0D=0A=0D=0A»Wok-Life-Balance«=0D=0A=0D=0A =0D=0A
URL;VALUE=URI:https://hamburgwhl.infomaxnet.de/standard_widget_en/en/e-tutty-tran-1?eventDateId=30181816&widgetToken=22vcqFKw4GE.&
CLASS:PUBLIC
DTSTART:20260428T200000
DTSTAMP:20260425T010342
END:VEVENT
END:VCALENDAR