BEGIN:VCALENDAR
VERSION:2.0
PRODID:http://www.infomax-online.de/imxeventmanager/
METHOD:PUBLISH
BEGIN:VTIMEZONE
TZID:Europe/Berlin
TZURL:http://tzurl.org/zoneinfo-outlook/Europe/Berlin
X-LIC-LOCATION:Europe/Berlin
END:VTIMEZONE
BEGIN:VEVENT
UID:69e618ef2689e
LOCATION:Puschkinstraße 12, 19055 Schwerin
SUMMARY;ENCODING=QUOTED-PRINTABLE:Movies! Colors! Shapes!
DESCRIPTION;ENCODING=QUOTED-PRINTABLE:Pictures by Armin Mueller-Stahl at the Kulturforum=0D=0ASchleswig-Holstein-Haus Schwerin=0D=0A=0D=0A =0D=0A=0D=0AMOVIES! COLORS! SHAPES!=0D=0APAINTINGS BY ARMIN MUELLER-STAHL AT THE KULTURFORUM=0D=0ASCHLESWIG-HOLSTEIN-HAUS=0D=0A=0D=0AThe presentation of paintings on canvas and paper by the versatile=0D=0Aartist Armin Mueller-Stahl is a joint project of Filmland=0D=0AMecklenburg-Vorpommern and the Kulturforum Schleswig-Holstein-Haus=0D=0ASchwerin and accompanies the Filmkunstfest, which takes place for the=0D=0A35th time at the beginning of May. As part of the festival, Armin=0D=0AMueller-Stahl will be awarded the "Golden Ox" honorary prize for his=0D=0Amany years of versatile artistic work.=0D=0A=0D=0AThe show takes up this occasion and focuses on his visual art work,=0D=0Awhich was created parallel to his international film and theater=0D=0Acareer. Because: "Painting, writing, making music and acting simply=0D=0Abelong together for me," Mueller-Stahl admitted years ago. There is no=0D=0Adoubt that he is one of the most important exceptional artistic=0D=0Afigures in recent German cultural history.=0D=0A=0D=0AArmin Mueller-Stahl, born in Tilsit (East Prussia) in 1930, is one of=0D=0Athe most important German-speaking actors of the 20th century. After=0D=0Astudying music, he turned to acting in the 1950s and became a=0D=0Aformative figure in theater and film in the GDR.=0D=0A=0D=0AAmong other things, he became famous for the film adaptation of "Jakob=0D=0Ader Lügner" (directed by Frank Beyer), which was the only film=0D=0Aproduced in the GDR to be nominated for an Oscar. After leaving the=0D=0AGDR in 1980, Mueller-Stahl continued his career in West Germany and=0D=0Ainternationally. He worked with Rainer Werner Fassbinder, István=0D=0ASzabó and Costa-Gavras, among others. He was nominated for an Oscar=0D=0Ain 1997.=0D=0A=0D=0A =0D=0A
URL;VALUE=URI:https://hamburgwhl.infomaxnet.de/standard_widget_en/en/e-movies-colors-shapes?eventDateId=30179626&widgetToken=22vcqFKw4GE.&
CLASS:PUBLIC
DTSTART:20260423T110000
DTSTAMP:20260420T141543
END:VEVENT
END:VCALENDAR