BEGIN:VCALENDAR
VERSION:2.0
PRODID:http://www.infomax-online.de/imxeventmanager/
METHOD:PUBLISH
BEGIN:VTIMEZONE
TZID:Europe/Berlin
TZURL:http://tzurl.org/zoneinfo-outlook/Europe/Berlin
X-LIC-LOCATION:Europe/Berlin
END:VTIMEZONE
BEGIN:VEVENT
UID:69e5196b330f9
LOCATION:Hansestraße , 21682 Stade
SUMMARY;ENCODING=QUOTED-PRINTABLE:Tidenkieker "Schilfparadiese"
DESCRIPTION;ENCODING=QUOTED-PRINTABLE:Trip with the flat-bottomed boat "Tidenkieker" from Stade.=0D=0A=0D=0AThe tides, the powerful pulse of the sea, shape the landscape on the=0D=0ALower Elbe. Thousands of sports skippers, captains of huge container=0D=0Aships and the Elbe fishermen on their cutters follow the tides, as the=0D=0Apeople here call the ebb and flow. From the board of the flat-bottomed=0D=0Aboat 'Tidenkieker' you can experience this unique tidal landscape up=0D=0Aclose in the company of experts on the Lower Elbe.=0D=0AShip and timetable changes reserved.=0D=0A=0D=0A
URL;VALUE=URI:https://hamburgwhl.infomaxnet.de/standard_widget_en/en/e-tidenkieker-schilfparadiese?eventDateId=30177921&widgetToken=22vcqFKw4GE.&
CLASS:PUBLIC
DTSTART:20260419T143000
DTSTAMP:20260419T200531
END:VEVENT
END:VCALENDAR