BEGIN:VCALENDAR
VERSION:2.0
PRODID:http://www.infomax-online.de/imxeventmanager/
METHOD:PUBLISH
BEGIN:VTIMEZONE
TZID:Europe/Berlin
TZURL:http://tzurl.org/zoneinfo-outlook/Europe/Berlin
X-LIC-LOCATION:Europe/Berlin
END:VTIMEZONE
BEGIN:VEVENT
UID:69e8cf7712dab
LOCATION:Grüner Weg 26, 23936 Grevesmühlen
SUMMARY;ENCODING=QUOTED-PRINTABLE:Renewable Energy Day on April 24, 2026
DESCRIPTION;ENCODING=QUOTED-PRINTABLE:On April 24, 2026, the association Stadt ohne Watt invites you to the=0D=0A14th Renewable Energy Day.=0D=0A=0D=0AOn April 24, 2026, the association Stadt ohne Watt invites you to the=0D=0A14th Renewable Energy Day. Over 400 participants from the region will=0D=0Again practical insights into renewable energies and sustainable public=0D=0Aservices at numerous learning locations.=0D=0A=0D=0AIn addition to established partners, four new learning locations have=0D=0Abeen acquired. Experts will explain technology, answer questions and=0D=0Apromote dialog about the energy transition and sustainability.=0D=0A
URL;VALUE=URI:https://hamburgwhl.infomaxnet.de/standard_widget_en/en/e-renewable-energy-day-on-april-24-2026?eventDateId=30172940&widgetToken=22vcqFKw4GE.&
CLASS:PUBLIC
DTSTART:20260424T100000
DTSTAMP:20260422T153903
END:VEVENT
END:VCALENDAR