BEGIN:VCALENDAR
VERSION:2.0
PRODID:http://www.infomax-online.de/imxeventmanager/
METHOD:PUBLISH
BEGIN:VTIMEZONE
TZID:Europe/Berlin
TZURL:http://tzurl.org/zoneinfo-outlook/Europe/Berlin
X-LIC-LOCATION:Europe/Berlin
END:VTIMEZONE
BEGIN:VEVENT
UID:69e5d4bdb6484
LOCATION:Alstertor 1, 20095 Hamburg
SUMMARY;ENCODING=QUOTED-PRINTABLE:Ponderosa Queer Club
DESCRIPTION;ENCODING=QUOTED-PRINTABLE:A Queer Dance Party !=0D=0A=0D=0AAll Genders Welcome=0D=0A
URL;VALUE=URI:https://hamburgwhl.infomaxnet.de/standard_widget_en/en/e-ponderosa-queer-club-1?eventDateId=30172628&widgetToken=22vcqFKw4GE.&
CLASS:PUBLIC
DTSTART:20260424T220000
DTSTAMP:20260420T092445
END:VEVENT
END:VCALENDAR