BEGIN:VCALENDAR
VERSION:2.0
PRODID:http://www.infomax-online.de/imxeventmanager/
METHOD:PUBLISH
BEGIN:VTIMEZONE
TZID:Europe/Berlin
TZURL:http://tzurl.org/zoneinfo-outlook/Europe/Berlin
X-LIC-LOCATION:Europe/Berlin
END:VTIMEZONE
BEGIN:VEVENT
UID:69e8fd6a03f23
LOCATION:Am Markt 14, 19055 Schwerin
SUMMARY;ENCODING=QUOTED-PRINTABLE:Reading and talk with Grit Poppe on 24.04.2026
DESCRIPTION;ENCODING=QUOTED-PRINTABLE:Reading and discussion with Grit Poppe on Friday, April 24, 6 p.m. in=0D=0Athe Demmler Hall of Schwerin Town Hall.=0D=0A=0D=0AThe Bündnis 90/Die Grünen/Die PARTEI parliamentary group invites you=0D=0Ato a reading and discussion with the author and writer Grit Poppe on=0D=0AFriday, April 24, 6 p.m. in the Demmler Hall of Schwerin Town Hall.=0D=0AThe author, who has already won several awards for her books, will=0D=0Aread from her non-fiction book"verschleppt, verbannt, verschwunden -=0D=0ADeutsche Kriegsjugend in Stalins Lagern und Gefängnissen" ("Deported,=0D=0Abanished, disappeared - German war youth in Stalin's camps and=0D=0Aprisons"), which she published with Niklas Poppe. This will be=0D=0Afollowed by a moderated discussion about the background to the book.=0D=0A=0D=0AGrit and Niklas Poppe report on the fates of young people and young=0D=0Aadults who fell into the clutches of the Soviet secret service, were=0D=0Aarrested, deported or murdered in the Soviet occupation zone and the=0D=0Aearly GDR after the Nazi era. These are the stories of suffering and=0D=0Aimprisonment of those affected, who innocently and often had to spend=0D=0Ayears in one of the Soviet special camps and in the Gulag. Quite a few=0D=0Aperished. The experiences of those unjustly imprisoned are portrayed=0D=0Ain such a way that it becomes clear how seriously and persistently=0D=0Ahuman dignity and human rights were violated. This volume is dedicated=0D=0Ato the people who suffered persecution at a young age at the hands of=0D=0Athe Soviet occupying power.=0D=0A=0D=0AAdmission to the event is free of charge. Advance registration is not=0D=0Arequired. =0D=0A=0D=0ATel: 0385 545-2970=0D=0A
URL;VALUE=URI:https://hamburgwhl.infomaxnet.de/standard_widget_en/en/e-reading-and-talk-with-grit-poppe-on-24042026?eventDateId=30167938&widgetToken=22vcqFKw4GE.&
CLASS:PUBLIC
DTSTART:20260424T180000
DTSTAMP:20260422T185506
END:VEVENT
END:VCALENDAR