BEGIN:VCALENDAR
VERSION:2.0
PRODID:http://www.infomax-online.de/imxeventmanager/
METHOD:PUBLISH
BEGIN:VTIMEZONE
TZID:Europe/Berlin
TZURL:http://tzurl.org/zoneinfo-outlook/Europe/Berlin
X-LIC-LOCATION:Europe/Berlin
END:VTIMEZONE
BEGIN:VEVENT
UID:69e8b879712bf
LOCATION:Johannes-Stelling-Straße 29, 19053 Schwerin
SUMMARY;ENCODING=QUOTED-PRINTABLE:"The German-Russian century"
DESCRIPTION;ENCODING=QUOTED-PRINTABLE:Lecture with Prof. Dr. Stefan Creuzberger=0D=0A=0D=0A =0D=0A=0D=0ARussia's inhumane policy towards Ukraine under President Putin has=0D=0Atriggered discussions in Germany about redefining German-Russian=0D=0Arelations. On April 28, the Rostock-based contemporary historian=0D=0AStefan Creuzberger will be speaking at the State Library from 6 pm=0D=0Aabout his book "The German-Russian Century", which traces the tense=0D=0Ahistory of relations between Germany and Russia and was nominated for=0D=0Athe German Non-Fiction Prize in 2022, the year of its publication.=0D=0ACreuzberger covers everything from the Russian Revolution, the=0D=0AHitler-Stalin Pact, Stalingrad and the Cold War to the fall of the=0D=0ABerlin Wall, reunification and current conflicts such as the=0D=0Aannexation of Crimea and Nord Stream 2. An important historical=0D=0Aexamination of this epochal connection that has repeatedly shaped=0D=0Aworld events. The author thus makes a relevant contribution to the=0D=0Acurrent debate.=0D=0A=0D=0A =0D=0A=0D=0AThe event is part of the traveling exhibition "The Other Russia.=0D=0AMEMORIAL: The struggle for historical truth and democracy"=0D=0A[https://www.dokumentationszentrum-schwerin.de/ausstellungen/sonderausstellung],=0D=0Awhich can be visited until April 30 at the country's Documentation=0D=0ACenter for the Victims of Dictatorships in Germany=0D=0A[https://www.dokumentationszentrum-schwerin.de/].=0D=0A
URL;VALUE=URI:https://hamburgwhl.infomaxnet.de/standard_widget_en/en/e-the-german-russian-century?eventDateId=30167935&widgetToken=22vcqFKw4GE.&
CLASS:PUBLIC
DTSTART:20260428T180000
DTSTAMP:20260422T140057
END:VEVENT
END:VCALENDAR