BEGIN:VCALENDAR
VERSION:2.0
PRODID:http://www.infomax-online.de/imxeventmanager/
METHOD:PUBLISH
BEGIN:VTIMEZONE
TZID:Europe/Berlin
TZURL:http://tzurl.org/zoneinfo-outlook/Europe/Berlin
X-LIC-LOCATION:Europe/Berlin
END:VTIMEZONE
BEGIN:VEVENT
UID:69ecb145e4e3e
LOCATION:Weißenmoor 11a, 21709 Düdenbüttel
SUMMARY;ENCODING=QUOTED-PRINTABLE:Alpaka-Wanderung bei Stade/ Hamburg
DESCRIPTION;ENCODING=QUOTED-PRINTABLE:Experience a relaxing alpaca hike with fellow alpaca enthusiasts,=0D=0Aaccompanied by the alpacas from Waytalla Alpacas near Stade/Hamburg.=0D=0A=0D=0AAfter a brief introduction to leading the alpacas, let yourself be=0D=0Aenchanted by these adorable animals during an approximately one-hour=0D=0Awalk in nature, while learning lots of fascinating facts about them.=0D=0ATwo people will walk together with one alpaca, which you are welcome=0D=0Ato pet and photograph.=0D=0A=0D=0AAfter the hike, a visit to the farm shop is possible, where many great=0D=0Aproducts related to alpacas await all alpaca fans.=0D=0A=0D=0AInformation about Waytalla Alpacas, founded in 2008, and its=0D=0Aapproximately 60 alpacas can be found at: www.Waytalla-Alpakas.de=0D=0A=0D=0ABook your ticket at:=0D=0Ahttps://www.waytalla-alpakas.de/alpaka-wanderung-wandern-spaziergang-alpakas/=0D=0Aor https://mein-alpaka-shop.de/pages/aktivitaten=0D=0A=0D=0APrice per person: 29.90 euros=0D=0ATwo people share one alpaca.=0D=0AMinimum age: 12 years=0D=0A
URL;VALUE=URI:https://hamburgwhl.infomaxnet.de/standard_widget_en/en/e-alpaka-wanderung-bei-stade-hamburg?eventDateId=30167596&widgetToken=22vcqFKw4GE.&
CLASS:PUBLIC
DTSTART:20260426T100000
DTSTAMP:20260425T141917
END:VEVENT
END:VCALENDAR