BEGIN:VCALENDAR
VERSION:2.0
PRODID:http://www.infomax-online.de/imxeventmanager/
METHOD:PUBLISH
BEGIN:VTIMEZONE
TZID:Europe/Berlin
TZURL:http://tzurl.org/zoneinfo-outlook/Europe/Berlin
X-LIC-LOCATION:Europe/Berlin
END:VTIMEZONE
BEGIN:VEVENT
UID:69e65e5edcbe4
LOCATION:Amtsstraße 5, 19205 Gadebusch
SUMMARY;ENCODING=QUOTED-PRINTABLE:We celebrate 20 years of the Gadebusch museum complex
DESCRIPTION;ENCODING=QUOTED-PRINTABLE:Family afternoon with the "blechlotsen" and their musical theater=0D=0A"Crane Kalypso"=0D=0A=0D=0ATo mark the 20th birthday of the Gadebusch museum complex, we=0D=0Acelebrate in the museum courtyard with the "BLECHLOTSEN" and their=0D=0AMUSICAL THEATER "KRANICH KALYPSO". The colorful family afternoon will=0D=0Abe opened by the dance group of the children's and youth club=0D=0A"FreiRaum". There will be coffee and cake as well as great hands-on=0D=0Aactivities for the whole family in the museum courtyard.=0D=0A=0D=0AWHAT TO EXPECT....=0D=0AMusic meets nature - the five likeable musicians from _blechlotsen_=0D=0Ameet Crane Kalypso on a journey through Mäkelborg-Vörpommern.=0D=0AAttracted and somewhat distracted by the beautiful music of the=0D=0Adüchtig Dörpkapell, the crane takes a clumsy nosedive and breaks a=0D=0Awing. A cheerful get-together begins, in which loving puppetry meets=0D=0Alively brass music, trumpeting similarities are discovered and a=0D=0Alittle bit of Platt is spoken and taught. A 45-minute concert for=0D=0Ayoung and old from the age of 3.=0D=0A=0D=0A
URL;VALUE=URI:https://hamburgwhl.infomaxnet.de/standard_widget_en/en/e-we-celebrate-20-years-of-the-gadebusch-museum-complex?eventDateId=30165369&widgetToken=22vcqFKw4GE.&
CLASS:PUBLIC
DTSTART:20260425T140000
DTSTAMP:20260420T191158
END:VEVENT
END:VCALENDAR