BEGIN:VCALENDAR
VERSION:2.0
PRODID:http://www.infomax-online.de/imxeventmanager/
METHOD:PUBLISH
BEGIN:VTIMEZONE
TZID:Europe/Berlin
TZURL:http://tzurl.org/zoneinfo-outlook/Europe/Berlin
X-LIC-LOCATION:Europe/Berlin
END:VTIMEZONE
BEGIN:VEVENT
UID:69ea765c4c0b4
LOCATION:Amtsstraße 5, 19205 Gadebusch
SUMMARY;ENCODING=QUOTED-PRINTABLE:Construction site concert
DESCRIPTION;ENCODING=QUOTED-PRINTABLE:Concert for the renovation of Gadebusch Castle=0D=0A=0D=0AThe Gadebuscher Förderverein Renaissanceschloss und Museum invites=0D=0Ayou to another concert.=0D=0ADue to the ongoing renovation of the castle, the concert will take=0D=0Aplace in the neighboring museum complex. You can enjoy the renowned=0D=0Aartist Thorsten Rosenbusch, who was 1st concertmaster at the State=0D=0AOpera "Unter den Linden" in Berlin for many years, in the museum hall.=0D=0AHe will be accompanied on the piano by Dr. Eckhard Möbius from=0D=0ASchwerin. Dr. Möbius will also lead through the program. Enjoy the=0D=0Ainformal atmosphere in the historic half-timbered building.=0D=0A=0D=0AAdmission: 16:30=0D=0AStart: 17:00=0D=0A=0D=0AAdmission: 10 €=0D=0A
URL;VALUE=URI:https://hamburgwhl.infomaxnet.de/standard_widget_en/en/e-construction-site-concert?eventDateId=30165365&widgetToken=22vcqFKw4GE.&
CLASS:PUBLIC
DTSTART:20260425T170000
DTSTAMP:20260423T214324
END:VEVENT
END:VCALENDAR