BEGIN:VCALENDAR
VERSION:2.0
PRODID:http://www.infomax-online.de/imxeventmanager/
METHOD:PUBLISH
BEGIN:VTIMEZONE
TZID:Europe/Berlin
TZURL:http://tzurl.org/zoneinfo-outlook/Europe/Berlin
X-LIC-LOCATION:Europe/Berlin
END:VTIMEZONE
BEGIN:VEVENT
UID:69e9a66cecfd6
LOCATION:Am Dorfplatz 13, 19079 Sukow
SUMMARY;ENCODING=QUOTED-PRINTABLE:Health Day 2026 in Sukow
DESCRIPTION;ENCODING=QUOTED-PRINTABLE:Actively healthy in Sukow: tips, trends and hands-on activities=0D=0Arelating to nutrition, exercise and well-being=0D=0A=0D=0A =0D=0A=0D=0AThe FIRST HEALTH DAY IN SUKOW invites visitors of all ages to discover=0D=0Ahealth, well-being and prevention in a diverse and practical way.=0D=0AAround 20 REGIONAL EXHIBITORS will present their offerings in the=0D=0Avillage community center and provide exciting insights into topics=0D=0Asuch as NUTRITION, EXERCISE, SKIN CARE, YOGA, NATUROPATHY AND=0D=0AMICRONUTRIENTS. The program also includes information on CARE, HEALTH=0D=0AIN OLD AGE AND SUPPORT OPTIONS FOR EVERYDAY LIFE.=0D=0A=0D=0AIn addition to traditional information stands, guests can expect a=0D=0AVARIED RANGE OF HANDS-ON ACTIVITIES :=0D=0A=0D=0AIn short LECTURES, practical DEMONSTRATIONS and interactive ACTIVITIES=0D=0A, interested parties can try out various approaches directly and take=0D=0Aaway new ideas for a healthy life.=0D=0A=0D=0AThe Health Day is deliberately designed to be open and lively -=0D=0Avisitors can move around freely, engage in conversation and discover=0D=0Aindividually tailored offers.=0D=0A=0D=0A =0D=0A=0D=0AThe day is rounded off with HEALTHY SMOOTHIES, SMALL SNACKS, CAKES AND=0D=0ATEAS. A RAFFLE with attractive prizes will also provide ENTERTAINMENT=0D=0AFOR YOUNG AND OLD. =0D=0A=0D=0AThe Health Day combines information, experience and exchange and makes=0D=0Ahealth tangible for all generations.=0D=0A=0D=0A =0D=0A
URL;VALUE=URI:https://hamburgwhl.infomaxnet.de/standard_widget_en/en/e-health-day-2026-in-sukow?eventDateId=30165358&widgetToken=22vcqFKw4GE.&
CLASS:PUBLIC
DTSTART:20260425T100000
DTSTAMP:20260423T065612
END:VEVENT
END:VCALENDAR