BEGIN:VCALENDAR
VERSION:2.0
PRODID:http://www.infomax-online.de/imxeventmanager/
METHOD:PUBLISH
BEGIN:VTIMEZONE
TZID:Europe/Berlin
TZURL:http://tzurl.org/zoneinfo-outlook/Europe/Berlin
X-LIC-LOCATION:Europe/Berlin
END:VTIMEZONE
BEGIN:VEVENT
UID:69e98d3f0a5eb
LOCATION:Am Neumühler See 26, 19057 Schwerin
SUMMARY;ENCODING=QUOTED-PRINTABLE:Rethinking care - working & living in the "Immergrün" shared=0D=0Aapartment
DESCRIPTION;ENCODING=QUOTED-PRINTABLE:Curious about how care really works in a shared family home? Or are=0D=0Ayou looking for a new home for yourself or your relative? On April 23,=0D=0A2026, you will have the opportunity to get to know our new=0D=0A"Immergrün" shared apartment in the "Am Mühlenberg" building and see=0D=0Afor yourself.=0D=0A=0D=0AFor nursing staff:=0D=0ADiscover exciting prospects in a modern shared care home: design your=0D=0Aworking time as a lifetime, experience real interaction with=0D=0Acolleagues and residents and learn all about jobs, earnings, working=0D=0Aconditions and development opportunities.=0D=0A=0D=0AFor future residents:=0D=0AExperience what modern living and working in care can look like today:=0D=0ASeven to fourteen residents live together in a family atmosphere,=0D=0Ashare a cozy kitchen and living area and organize their daily lives=0D=0Atogether. At the same time, a separate room offers the necessary=0D=0Aprivacy.=0D=0A=0D=0AYou can look forward to=0D=0A- Insights into everyday life in the shared flat=0D=0A- Personal discussions with our team=0D=0A- Information on jobs, working conditions and development=0D=0Aopportunities=0D=0A- creative hands-on activities=0D=0A- Sweet and savory snacks=0D=0A=0D=0ACome along, ask your questions and form your own opinion - as a future=0D=0Aresident, relative or carer.=0D=0A
URL;VALUE=URI:https://hamburgwhl.infomaxnet.de/standard_widget_en/en/e-rethinking-care-working-living-in-the-immergruen-shared-apartment?eventDateId=30165317&widgetToken=22vcqFKw4GE.&
CLASS:PUBLIC
DTSTART:20260423T113000
DTSTAMP:20260423T050847
END:VEVENT
END:VCALENDAR