BEGIN:VCALENDAR
VERSION:2.0
PRODID:http://www.infomax-online.de/imxeventmanager/
METHOD:PUBLISH
BEGIN:VTIMEZONE
TZID:Europe/Berlin
TZURL:http://tzurl.org/zoneinfo-outlook/Europe/Berlin
X-LIC-LOCATION:Europe/Berlin
END:VTIMEZONE
BEGIN:VEVENT
UID:69e8f9180d8e9
LOCATION:Fischerdamm 2, 19370 Parchim
SUMMARY;ENCODING=QUOTED-PRINTABLE:The home dress
DESCRIPTION;ENCODING=QUOTED-PRINTABLE:by Kirsten Fuchs=0D=0A=0D=0AWhen Claire's sister Luise goes to study in the USA, Claire takes over=0D=0Aher apartment and joins Luise's successful fashion vlog. "Heimatkleid"=0D=0Ais the name of the first label she is to introduce. The concept -=0D=0Aproduction without exploitation, sewn in Germany - sounds plausible,=0D=0Aand the dress looks good too.=0D=0A=0D=0ABut in the middle of Claire's interview with the label founder, bags=0D=0Aof paint fly at the shop windows and people chant "Nazis out" outside.=0D=0AClaire is disturbed: what's wrong with such a good approach?=0D=0A=0D=0AIt's not so easy with the new neighbors either: Tom is helpful and=0D=0Adamn attractive. And Claire likes the fact that he stands up for his=0D=0Abeliefs. But is it really true that everyone in the house will vote=0D=0Afor the new party that Tom is so enthusiastic about? And why is he=0D=0Asaying things that Claire knows aren't true? When Claire suddenly has=0D=0Ato take a stand, it's anything but easy for her.=0D=0A
URL;VALUE=URI:https://hamburgwhl.infomaxnet.de/standard_widget_en/en/e-the-home-dress-2?eventDateId=30162492&widgetToken=22vcqFKw4GE.&
CLASS:PUBLIC
DTSTART:20260423T100000
DTSTAMP:20260422T183640
END:VEVENT
END:VCALENDAR