BEGIN:VCALENDAR
VERSION:2.0
PRODID:http://www.infomax-online.de/imxeventmanager/
METHOD:PUBLISH
BEGIN:VTIMEZONE
TZID:Europe/Berlin
TZURL:http://tzurl.org/zoneinfo-outlook/Europe/Berlin
X-LIC-LOCATION:Europe/Berlin
END:VTIMEZONE
BEGIN:VEVENT
UID:69e76fba7610f
LOCATION:Jarrestraße 20, 22303 Hamburg
SUMMARY;ENCODING=QUOTED-PRINTABLE:SPRING BREAK RESIDENCY
DESCRIPTION;ENCODING=QUOTED-PRINTABLE:The _Spring Break Residency_ is a program for young choreographers=0D=0Afrom Hamburg, inviting them to spend the spring in the studios of K3=0D=0Ato let new ideas sprout.=0D=0A=0D=0AAfter two weeks of rehearsals, they present the results of their short=0D=0Aresidency in a showing. The choreographers can try things out in a=0D=0Aprofessional setting and work on their own themes. This year's guests=0D=0Aare Sakshi Jain and Rodolpho Sagbo, who both studied at the=0D=0AContemporary Dance School Hamburg. =0D=0A=0D=0ASakshi explores the concept of home across different languages and=0D=0Acultures, seeking out the rhythms found in the spaces in between. The=0D=0Aprojections are by Mayur Revenna, and the music is by Homero Alonso=0D=0Aand Hêja Netirk.=0D=0A=0D=0ARodolpho combines African rituals with digital sound to create a=0D=0Atransitional space between memory, technology, and contemporary=0D=0Aidentity. Rodolpho dances with Edwin E. Sanchez; the interactive music=0D=0Adesign is by Giovanni Dinello, and the sound design and performance=0D=0Aare by Rahel Jenny Egger.=0D=0A=0D=0AThe studio is only accessible by stairs=0D=0A
URL;VALUE=URI:https://hamburgwhl.infomaxnet.de/standard_widget_en/en/e-spring-break-residency-1?eventDateId=30162320&widgetToken=22vcqFKw4GE.&
CLASS:PUBLIC
DTSTART:20260421T190000
DTSTAMP:20260421T143818
END:VEVENT
END:VCALENDAR