BEGIN:VCALENDAR
VERSION:2.0
PRODID:http://www.infomax-online.de/imxeventmanager/
METHOD:PUBLISH
BEGIN:VTIMEZONE
TZID:Europe/Berlin
TZURL:http://tzurl.org/zoneinfo-outlook/Europe/Berlin
X-LIC-LOCATION:Europe/Berlin
END:VTIMEZONE
BEGIN:VEVENT
UID:69e5a87b54723
LOCATION:Am Bahnhof 4, 23936 Grevesmühlen
SUMMARY;ENCODING=QUOTED-PRINTABLE:Rummy competition
DESCRIPTION;ENCODING=QUOTED-PRINTABLE:The Heimatverein Grevesmühlen e.V. and the Behindertenverband e.V.=0D=0AGrevesmühlen invite you to a rummy competition in a convivial=0D=0Aatmosphere.=0D=0A=0D=0AINVITATION TO THE SOCIAL RUMMY TOURNAMENT IN GREVESMÜHLEN ON APRIL=0D=0A24, 2026=0D=0A=0D=0AThe "Kulturbanausen" of the Heimatverein Grevesmühlen e.V. and the=0D=0ABehindertenverband e.V. Grevesmühlen cordially invite you to a joint=0D=0Arummy competition. Experience an entertaining afternoon in convivial=0D=0Acompany and put your strategic skills to the test.=0D=0A=0D=0AEVENT DETAILS:=0D=0A=0D=0A	* Date: April 24, 2026=0D=0A	* Start: 14:00=0D=0A	* Location: Meeting point "Eck am Bahnhof", Grevesmühlen=0D=0A	* Entry fee: €12.00 per person=0D=0A	* Catering: Food and drinks will be provided on site (for a fee)=0D=0A=0D=0AREGISTRATION:=0D=0A=0D=0A	* The number of participants is limited to 40 people. We ask for=0D=0Abinding registration by 17.04.2026 at the latest:=0D=0A	* Contact person: Ms. Lange=0D=0A	* Phone: 0151 / 25933227=0D=0A=0D=0A
URL;VALUE=URI:https://hamburgwhl.infomaxnet.de/standard_widget_en/en/e-rummy-competition?eventDateId=30154826&widgetToken=22vcqFKw4GE.&
CLASS:PUBLIC
DTSTART:20260424T140000
DTSTAMP:20260420T061555
END:VEVENT
END:VCALENDAR